BEGIN:VCALENDAR
VERSION:2.0
PRODID:-//ChamberMaster//Event Calendar 2.0//EN
METHOD:PUBLISH
X-PUBLISHED-TTL:P3D
REFRESH-INTERVAL:P3D
CALSCALE:GREGORIAN
BEGIN:VEVENT
DTSTART:20260212T230000Z
DTEND:20260213T010000Z
X-MICROSOFT-CDO-ALLDAYEVENT:FALSE
SUMMARY:Hays County Real Estate Mixer
DESCRIPTION:Come network with us and meet other people in the real estate industry. Thanks to our sponsors you will receive two complimentary drinks. Also bring your business card to be entered in a raffle.
X-ALT-DESC;FMTTYPE=text/html:Come network with us and meet other people in the real estate industry. Thanks to our sponsors you will receive two complimentary drinks. Also bring your business card to be entered in a raffle.&nbsp\;
LOCATION:Nate's 306 S Main St Ste 101 Buda TX 78610
UID:e.2626.5160830
SEQUENCE:3
DTSTAMP:20260422T220919Z
URL:https://business.sanmarcostexas.com/events/details/hays-county-real-estate-mixer-02-12-2026-5160830
END:VEVENT

END:VCALENDAR
