BEGIN:VCALENDAR
VERSION:2.0
PRODID:-//ChamberMaster//Event Calendar 2.0//EN
METHOD:PUBLISH
X-PUBLISHED-TTL:P3D
REFRESH-INTERVAL:P3D
CALSCALE:GREGORIAN
BEGIN:VEVENT
DTSTART:20271203T143000Z
DTEND:20271203T153000Z
X-MICROSOFT-CDO-ALLDAYEVENT:FALSE
SUMMARY:Hays County Networking "Breakfast with Tiffany" Event
DESCRIPTION:Are you looking to grow your business and your revenue through networking? Do you want to expand your professional network or connect with like-minded business owners & professionals?\n\n\n\nIf so\, Tiffany Harris with the City of San Marcos\, Tiffany Harrison Quibodeaux with the San Marcos Area Chamber of Commerce (and Rich Gibbens\, financial advisor extraordinaire) invite you to join us every month for the Breakfast with Tiffany networking event!\n\n\n\nThis is a free networking event\, open to all. There is no need to RSVP\, just show up with your business cards and a smile on your face\, ready to make some new connections.\n\n\n\nWe meet monthly on the 1st Friday\, 8:30 am - 9:30 am\, at Residence Inn in San Marcos.\n\nHelp us spread the word - tell a friend or business colleague\n\nand ask them to join us.\n\n\n\nIf you haven't joined our Hays County Networking FB page\, we invite you to do so now: https://www.facebook.com/groups/hayscountynetworking
X-ALT-DESC;FMTTYPE=text/html:<span style="color:#080809\;"><span style="font-family:segoe ui historic\,sans-serif\;"><span style="font-size:11.5pt\;">Are you looking to grow your business and your revenue through networking? Do you want to expand your professional network or connect with like-minded business owners &amp\; professionals?</span></span></span><br>\n<br>\n<span style="color:#080809\;"><span style="font-family:segoe ui historic\,sans-serif\;"><span style="font-size:11.5pt\;">If so\, Tiffany Harris with the City of San Marcos\, Tiffany Harrison Quibodeaux with the San Marcos Area Chamber of Commerce (and Rich Gibbens\, financial advisor extraordinaire) invite you to join us every month for the Breakfast with Tiffany networking event!</span></span></span><br>\n<br>\n<span style="color:#080809\;"><span style="font-family:segoe ui historic\,sans-serif\;"><span style="font-size:11.5pt\;">This is a free networking event\, open to all. There is no need to RSVP\, just show up with your business cards and a smile on your face\, ready to make some new connections.</span></span></span><br>\n<br>\n<span style="color:#080809\;"><span style="font-family:segoe ui historic\,sans-serif\;"><span style="font-size:11.5pt\;">We meet monthly on the 1st Friday\, 8:30 am - 9:30 am\, at Residence Inn in San Marcos.</span></span></span><br>\n<span style="color:#080809\;"><span style="font-family:segoe ui historic\,sans-serif\;"><span style="font-size:11.5pt\;">Help us spread the word - tell a friend or business colleague<br>\nand ask them to join us.</span></span></span><br>\n<br>\n<span style="color:#080809\;"><span style="font-family:segoe ui historic\,sans-serif\;"><span style="font-size:11.5pt\;">If you haven't joined our Hays County Networking FB page\, we invite you to do so now:&nbsp\;<a href="https://www.facebook.com/groups/hayscountynetworking/?__cft__%5b0%5d=AZV3H2Fh-Ot59Y_ZDNmDqRPFNCandFhHt89XI1VCWuhs4xQwKdSSU0zedI2d-VN3iJOwq8neV5O6FnMyORaG2HL2AErifjVyhIegAEO9zppcxhJkUy9lP9O2EqDYTZLRov_jpFJ2tWO-Id6cOJlk0A0-&amp\;__tn__=q"><strong><span style="border:none windowtext 1.0pt\;padding:0in\;text-decoration:none\;text-underline:none\;"><span style="color:#080809\;"><span style="font-family:inherit\,serif\;">https://www.facebook.com/groups/hayscountynetworking</span></span></span></strong></a>&nbsp\;</span></span></span><br>\n&nbsp\;
LOCATION:The First Friday of Every Month 8:30am-9:30am Residence Inn 625 Commercial Loop Bldg. 2 San Marcos\, TX 78666
UID:e.2626.5161491
SEQUENCE:3
DTSTAMP:20260419T200308Z
URL:https://business.sanmarcostexas.com/events/details/hays-county-networking-breakfast-with-tiffany-event-12-03-2027-5161491
END:VEVENT

END:VCALENDAR
