BEGIN:VCALENDAR
VERSION:2.0
PRODID:-//ChamberMaster//Event Calendar 2.0//EN
METHOD:PUBLISH
X-PUBLISHED-TTL:P3D
REFRESH-INTERVAL:P3D
CALSCALE:GREGORIAN
BEGIN:VEVENT
DTSTART:20241027T000000Z
DTEND:20241027T020000Z
X-MICROSOFT-CDO-ALLDAYEVENT:FALSE
SUMMARY:Halloween Party Murder Mystery
DESCRIPTION:Come join us for a night of thrills and chills at our Halloween Party Murder Mystery event! Put on your best costume (or don't) and head over to 314 East Hutchison Street\, San Marcos\, TX\, USA for an unforgettable evening of mystery and intrigue.\n\nPrepare yourself for an evening where decadence meets danger\, in the high-stakes\, pulsating heart of Ben and Aria Tate's renowned annual Halloween bash. Known for their extravagant celebrations\, this year\, the couple has pulled out all stops to horrify and entertain their guests. But as darkness falls and the moon takes reign\, a sinister twist threatens to shatter the evening's spooky fa ade.\n\nIn an unsettling turn of events\, the festive atmosphere is shattered by the arrival of a disturbing video that grips everyone's attention: a chilling recording that captures the brutal demise of one of the cherished guests\, Jules Parker. The horrifying footage not only unveils a cold-blooded murder but also opens a pandora's box of looming questions: What sinister motive guided the killer to capture this chilling act on tape\, and why was it addressed specifically to one of the party attendees?\n\nAs shock and fear ripple through the party\, it becomes terrifyingly clear: the merciless killer is lurking among the guests\, hidden behind a mask of deceit and mingling within the crowd. The once ghoulish soir e has turned into a grim crime scene where trust is a luxury no one can afford.
X-ALT-DESC;FMTTYPE=text/html:<p>Come join us for a night of thrills and chills at our <strong>Halloween Party Murder Mystery</strong> event! Put on your best costume (or don&#39\;t) and head over to <strong>314 East Hutchison Street\, San Marcos\, TX\, USA</strong> for an unforgettable evening of mystery and intrigue.</p>\n\n<p>Prepare yourself for an evening where decadence meets danger\, in the high-stakes\, pulsating heart of Ben and Aria Tate&rsquo\;s renowned annual Halloween bash. Known for their extravagant celebrations\, this year\, the couple has pulled out all stops to horrify and entertain their guests. But as darkness falls and the moon takes reign\, a sinister twist threatens to shatter the evening&rsquo\;s spooky fa&ccedil\;ade.</p>\n\n<p>In an unsettling turn of events\, the festive atmosphere is shattered by the arrival of a disturbing video that grips everyone&rsquo\;s attention: a chilling recording that captures the brutal demise of one of the cherished guests\, Jules Parker. The horrifying footage not only unveils a cold-blooded murder but also opens a pandora&rsquo\;s box of looming questions: What sinister motive guided the killer to capture this chilling act on tape\, and why was it addressed specifically to one of the party attendees?</p>\n\n<p>As shock and fear ripple through the party\, it becomes terrifyingly clear: the merciless killer is lurking among the guests\, hidden behind a mask of deceit and mingling within the crowd. The once ghoulish soir&eacute\;e has turned into a grim crime scene where trust is a luxury no one can afford.</p>\n
LOCATION:Wineaux 314 E Hutchison St San Marcos\, TX
UID:e.2626.5159785
SEQUENCE:3
DTSTAMP:20260425T032632Z
URL:https://business.sanmarcostexas.com/events/details/halloween-party-murder-mystery-5159785
END:VEVENT

END:VCALENDAR
