BEGIN:VCALENDAR
VERSION:2.0
PRODID:-//ChamberMaster//Event Calendar 2.0//EN
METHOD:PUBLISH
X-PUBLISHED-TTL:P3D
REFRESH-INTERVAL:P3D
CALSCALE:GREGORIAN
BEGIN:VEVENT
DTSTART:20241027T000000Z
DTEND:20241027T020000Z
X-MICROSOFT-CDO-ALLDAYEVENT:FALSE
SUMMARY:Halloween Murder Mystery
DESCRIPTION:Get ready for a spooky night of mystery and mayhem at our Halloween Party Murder Mystery - can you solve the crime? Tickets on Eventbrite
X-ALT-DESC;FMTTYPE=text/html:Get ready for a spooky night of mystery and mayhem at our Halloween Party Murder Mystery - can you solve the crime? Tickets on Eventbrite
LOCATION:Wineaux 314 E Hutchison St
UID:e.2626.5159761
SEQUENCE:3
DTSTAMP:20260425T032628Z
URL:https://business.sanmarcostexas.com/events/details/halloween-murder-mystery-5159761
END:VEVENT

END:VCALENDAR
