BEGIN:VCALENDAR
VERSION:2.0
PRODID:-//ChamberMaster//Event Calendar 2.0//EN
METHOD:PUBLISH
X-PUBLISHED-TTL:P3D
REFRESH-INTERVAL:P3D
CALSCALE:GREGORIAN
BEGIN:VEVENT
DTSTART:20241031T220000Z
DTEND:20241101T010000Z
X-MICROSOFT-CDO-ALLDAYEVENT:FALSE
SUMMARY:Halloween Family Night at Wonder World Cave
DESCRIPTION:Join Wonder World Cave for a family friendly Halloween Night on October 31 from 5-7PM! Enjoy food and drinks\, music\, carnival games\, $10 hayrides\, trunk or treat\, PLUS Haunted Lantern Cave Tours until 8:00PM. There will also be a costume contest so be sure to dress your spookiest!
X-ALT-DESC;FMTTYPE=text/html:Join Wonder World Cave for a family friendly Halloween Night on October 31 from 5-7PM! Enjoy food and drinks\, music\, carnival games\, $10 hayrides\, trunk or treat\, PLUS Haunted Lantern Cave Tours until 8:00PM. There will also be a costume contest so be sure to dress your spookiest!
LOCATION:Wonder World Cave & Park\, 1000 Prospect Street
UID:e.2626.5160011
SEQUENCE:3
DTSTAMP:20260425T032939Z
URL:https://business.sanmarcostexas.com/events/details/halloween-family-night-at-wonder-world-cave-5160011
END:VEVENT

END:VCALENDAR
