BEGIN:VCALENDAR
VERSION:2.0
PRODID:-//ChamberMaster//Event Calendar 2.0//EN
METHOD:PUBLISH
X-PUBLISHED-TTL:P3D
REFRESH-INTERVAL:P3D
CALSCALE:GREGORIAN
BEGIN:VEVENT
DTSTART:20190905T163000Z
DTEND:20190905T180000Z
X-MICROSOFT-CDO-ALLDAYEVENT:FALSE
SUMMARY:Education Committee Meeting
DESCRIPTION:The monthly meeting of the Education Advisory Board. Advisory Board meetings are open to all Chamber members. If you would like more information on the Education Advisory Board\, please visit the Advisory Boards/Committees Page\, or contact the Chamber at 512.393.5900. Meeting times and locations are subject to change at the committee's discretion.
X-ALT-DESC;FMTTYPE=text/html:The monthly meeting of the Education Advisory Board. Advisory Board meetings are open to all Chamber members. If you would like more information on the Education Advisory Board\, please visit the Advisory Boards/Committees Page\, or contact the Chamber at 512.393.5900. Meeting times and locations are subject to change at the committee&#39\;s discretion.
LOCATION:Location\; San Marcos Library 625 E Hopkins St. San Marcos\, TX 78666
UID:e.2626.5148855
SEQUENCE:3
DTSTAMP:20260425T180349Z
URL:https://business.sanmarcostexas.com/events/details/education-advisory-board-meeting-09-05-2019-5148855
END:VEVENT

END:VCALENDAR
