BEGIN:VCALENDAR
VERSION:2.0
PRODID:-//ChamberMaster//Event Calendar 2.0//EN
METHOD:PUBLISH
X-PUBLISHED-TTL:P3D
REFRESH-INTERVAL:P3D
CALSCALE:GREGORIAN
BEGIN:VEVENT
DTSTART:20260418T150000Z
DTEND:20260418T210000Z
X-MICROSOFT-CDO-ALLDAYEVENT:FALSE
SUMMARY:Earth Day San Marcos Festival
DESCRIPTION:Mark your calendars for the 13th Annual Earth Day San Marcos Festival\, returning to Spring Lake on Saturday\, April 18\, 2026! This FREE community-wide\, family-friendly event is your opportunity to celebrate our local natural resources and connect with nature. Enjoy a variety of hands-on educational activities for all ages\, along with live performances and demonstrations. Don't miss the chance to interact with eco-friendly exhibitors and vendors showcasing a range of environmental and sustainability-related topics. Join us at the headwaters of the San Marcos River and experience a day of fun\, entertainment\, and learning. We can't wait to see you there!
X-ALT-DESC;FMTTYPE=text/html:Mark your calendars for the 13th Annual Earth Day San Marcos Festival\, returning to Spring Lake on Saturday\, April 18\, 2026! This FREE community-wide\, family-friendly event is your opportunity to celebrate our local natural resources and connect with nature. Enjoy a variety of hands-on educational activities for all ages\, along with live performances and demonstrations. Don&rsquo\;t miss the chance to interact with eco-friendly exhibitors and vendors showcasing a range of environmental and sustainability-related topics. Join us at the headwaters of the San Marcos River and experience a day of fun\, entertainment\, and learning.&nbsp\;We can&#39\;t wait to see you there!
LOCATION:The Meadows Center for Water and the Environment 201 San Marcos Springs Dr\, San Marcos\, TX 78666
UID:e.2626.5160828
SEQUENCE:3
DTSTAMP:20260420T183621Z
URL:https://business.sanmarcostexas.com/events/details/earth-day-san-marcos-festival-5160828
END:VEVENT

END:VCALENDAR
