BEGIN:VCALENDAR
VERSION:2.0
PRODID:-//ChamberMaster//Event Calendar 2.0//EN
METHOD:PUBLISH
X-PUBLISHED-TTL:P3D
REFRESH-INTERVAL:P3D
CALSCALE:GREGORIAN
BEGIN:VEVENT
DTSTART:20190325T230000Z
DTEND:20190326T003000Z
X-MICROSOFT-CDO-ALLDAYEVENT:FALSE
SUMMARY:Downtown Association of San Marcos Member Meeting
DESCRIPTION:
X-ALT-DESC;FMTTYPE=text/html:
LOCATION:
UID:e.2626.5152385
SEQUENCE:3
DTSTAMP:20260425T145527Z
URL:https://business.sanmarcostexas.com/events/details/downtown-association-of-san-marcos-member-meeting-03-25-2019-5152385
END:VEVENT

END:VCALENDAR
