BEGIN:VCALENDAR
VERSION:2.0
PRODID:-//ChamberMaster//Event Calendar 2.0//EN
METHOD:PUBLISH
X-PUBLISHED-TTL:P3D
REFRESH-INTERVAL:P3D
CALSCALE:GREGORIAN
BEGIN:VEVENT
DTSTART;VALUE=DATE:20250412
DTEND;VALUE=DATE:20250413
TRANSP:TRANSPARENT
X-MICROSOFT-CDO-ALLDAYEVENT:TRUE
SUMMARY:Downtown Art Event
DESCRIPTION:Event details and other information available on the Downtown SMTX website\, click here.
X-ALT-DESC;FMTTYPE=text/html:Event details and other information available on the Downtown SMTX website\, click <a href="http://DowntownSMTX.com">here</a>.
LOCATION:To be announced.
UID:e.2626.5160152
SEQUENCE:3
DTSTAMP:20260425T155559Z
URL:https://business.sanmarcostexas.com/events/details/downtown-art-event-5160152
END:VEVENT

END:VCALENDAR
