BEGIN:VCALENDAR
VERSION:2.0
PRODID:-//ChamberMaster//Event Calendar 2.0//EN
METHOD:PUBLISH
X-PUBLISHED-TTL:P3D
REFRESH-INTERVAL:P3D
CALSCALE:GREGORIAN
BEGIN:VEVENT
DTSTART;VALUE=DATE:20260701
DTEND;VALUE=DATE:20260710
TRANSP:TRANSPARENT
X-MICROSOFT-CDO-ALLDAYEVENT:TRUE
SUMMARY:Discover Portugal - Group Travel Experience
DESCRIPTION:Discover Portugal with the San Marcos Chamber!\n\n\n\nDiscover the beauty and magic of Southwestern Europe with this small-group tour of Portugal. CLICK THE WEBSITE LINK on this page to view the Interactive Booking Website with full details. \n\n\n\nPortugal is a breathtaking country\, famous for cobblestone streets\, coastal villages\, world-class wines\, golden beaches\, and delicious cuisine.\n\n\n\nA brochure with the itinerary is attached here. Printed copies are available in the Chamber office.\n\n\n\nOur journey begins in Lisbon\, known for its extraordinary mix of architecture and landmarks. Next travel to Obidos\, a medieval walled city in the north. Wander through the fishing village of Nazare and visit the Monastery of Santa Maria in Batalha. You will also explore Fatima to visit the Sanctuary of Our Lady of Fatima\, one of the most important pilgrimage sites known to Christianity.  Aveiro is next\, dubbed the Venice of Portugal thanks to its picturesque canals\, and travel to Porto\, a breathtaking coastal city situated on the Douro River and one of the top tourist attractions in Europe! \n\n\n\nThis trip starts at $2\,999 thanks to a special rate for San Marcos Chamber members and friends! Find all details at the website link on this page. DECIDE by March 1st to book this trip-of-a-lifetime for yourself and any plus-ones!
X-ALT-DESC;FMTTYPE=text/html:<strong>Discover Portugal with the San Marcos Chamber!</strong><br />\n<br />\nDiscover the beauty and magic of Southwestern Europe with this small-group tour of Portugal. CLICK THE WEBSITE LINK on this page to view the Interactive Booking Website with full details.&nbsp\;<br />\n<br />\nPortugal is a breathtaking country\, famous for cobblestone streets\, coastal villages\, world-class wines\, golden beaches\, and delicious cuisine.<br />\n<br />\n<em>A brochure with the itinerary is&nbsp\;<a href="https://chambermaster.blob.core.windows.net/userfiles/UserFiles/chambers/2626/File/DISCOVERPORTUGAL2026-colorbrochure.pdf">attached here</a>.&nbsp\;Printed copies are available in the Chamber office.</em><br />\n<br />\nOur journey begins in Lisbon\, known for its extraordinary mix of architecture and landmarks. Next travel to Obidos\, a medieval walled city in the north. Wander through the fishing village of Nazare and visit the Monastery of Santa Maria in Batalha. You will also explore Fatima to visit the Sanctuary of Our Lady of Fatima\, one of the most important pilgrimage sites known to Christianity.&nbsp\; Aveiro is next\, dubbed the Venice of Portugal thanks to its picturesque canals\, and travel to Porto\, a breathtaking coastal city situated on the Douro River and one of the top tourist attractions in Europe!&nbsp\;<br />\n<br />\nThis trip starts at $2\,999 thanks to a special rate for San Marcos Chamber members and friends! Find all details at the website link on this page. DECIDE by March 1st to book this trip-of-a-lifetime for yourself and any plus-ones!<br />\n&nbsp\;
LOCATION:
UID:e.2626.5160787
SEQUENCE:3
DTSTAMP:20260421T035944Z
URL:https://business.sanmarcostexas.com/events/details/discover-portugal-group-travel-experience-5160787
END:VEVENT

END:VCALENDAR
