BEGIN:VCALENDAR
VERSION:2.0
PRODID:-//ChamberMaster//Event Calendar 2.0//EN
METHOD:PUBLISH
X-PUBLISHED-TTL:P3D
REFRESH-INTERVAL:P3D
CALSCALE:GREGORIAN
BEGIN:VEVENT
DTSTART:20250223T013000Z
DTEND:20250223T040000Z
X-MICROSOFT-CDO-ALLDAYEVENT:FALSE
SUMMARY:Crimes Of The Heart
DESCRIPTION:Feb 21 - March 16\n\nCrimes Of The Heart\n\nBy Beth Henley\n\n \n\nStep into the captivating world of this darkly comedic gem set against the sultry backdrop of Mississippi\, where the MaGrath sisters converge for a reunion that promises to be anything but ordinary. As they navigate the tumultuous waters of family dysfunction\, each sister brings her own unique blend of humor and emotional vulnerability\, creating a tapestry of laughter and introspection that will resonate with anyone who has ever grappled with the complexities of familial ties.\n\n\n\nCRIMES OF THE HEART is presented by special arrangement with Broadway Licensing\, LLC\, servicing the Dramatists Play Service collection. (www.dramatists.com)\n\n \n\nDirected by Tysha Calhoun\n\n \n\nConcessions available: Sodas\, Beer\, Wine\, Coffee\, Cookies\, Candies & Snacks\n\n \n\nDisability parking\; disability seating\; disability restrooms\; hearing aid devices available\n\n \n\nCAST:\n\nLenny - Sarah Coyle\n\nMeg - Emily-Ann Patterson\n\nBabe - Kelly Menz\n\nChick - Elle Klein Garrison\n\nBarnette - David Young\n\nDoc - Samuel Ellisor
X-ALT-DESC;FMTTYPE=text/html:<span style="font-family:arial\,sans-serif">Feb 21 - March 16</span><br />\n<strong><span style="font-family:arial\,sans-serif"><span style="font-size:22.5pt">Crimes Of The Heart</span></span></strong><br />\n<strong><span style="font-family:arial\,sans-serif"><span style="font-size:14pt">By </span></span></strong><strong><span style="font-family:arial\,sans-serif"><span style="font-size:14pt">Beth Henley</span></span></strong><br />\n&nbsp\;<br />\n<span style="font-family:arial\,sans-serif">Step into the captivating world of this darkly comedic gem set against the sultry backdrop of Mississippi\, where the MaGrath sisters converge for a reunion that promises to be anything but ordinary. As they navigate the tumultuous waters of family dysfunction\, each sister brings her own unique blend of humor and emotional vulnerability\, creating a tapestry of laughter and introspection that will resonate with anyone who has ever grappled with the complexities of familial ties</span><span style="font-family:arial\,sans-serif">.</span><br />\n<br />\n<span style="font-family:arial\,sans-serif"><span style="font-size:10pt">CRIMES OF THE HEART is presented by special arrangement with Broadway Licensing\, LLC\, servicing the Dramatists Play Service collection. (www.dramatists.com)</span></span><br />\n&nbsp\;<br />\n<strong><span style="font-family:arial\,sans-serif">Directed by</span></strong><span style="font-family:arial\,sans-serif"> <strong>Tysha Calhoun</strong></span><br />\n&nbsp\;<br />\n<span style="font-family:arial\,sans-serif">Concessions available: Sodas\, Beer\, Wine\, Coffee\, Cookies\, Candies &amp\; Snacks</span><br />\n&nbsp\;<br />\n<span style="color:#333333"><span style="font-family:arial\,sans-serif"><span style="font-size:11.5pt">Disability parking\; disability seating\; disability restrooms\; hearing aid devices available</span></span></span><br />\n&nbsp\;<br />\n<u><span style="font-family:arial\,sans-serif">CAST:</span></u><br />\n<span style="color:#222222"><span style="font-family:times">Lenny - Sarah Coyle</span></span><br />\n<span style="color:#222222"><span style="font-family:times">Meg - Emily-Ann Patterson</span></span><br />\n<span style="color:#222222"><span style="font-family:times">Babe - Kelly Menz</span></span><br />\n<span style="color:#222222"><span style="font-family:times">Chick - Elle Klein Garrison</span></span><br />\n<span style="color:#222222"><span style="font-family:times">Barnette - David Young</span></span><br />\n<span style="color:#222222"><span style="font-size:12pt">Doc - Samuel Ellisor</span></span>
LOCATION:The Wimberley Players 450 Old Kyle Road Wimberley\, TX. 78676
UID:e.2626.5160225
SEQUENCE:3
DTSTAMP:20260425T132033Z
URL:https://business.sanmarcostexas.com/events/details/crimes-of-the-heart-02-22-2025-5160225
END:VEVENT

END:VCALENDAR
