BEGIN:VCALENDAR
VERSION:2.0
PRODID:-//ChamberMaster//Event Calendar 2.0//EN
METHOD:PUBLISH
X-PUBLISHED-TTL:P3D
REFRESH-INTERVAL:P3D
CALSCALE:GREGORIAN
BEGIN:VEVENT
DTSTART:20250222T013000Z
DTEND:20250222T040000Z
X-MICROSOFT-CDO-ALLDAYEVENT:FALSE
SUMMARY:Crimes Of The Heart
DESCRIPTION:Feb 21 - March 16 Crimes Of The Heart By Beth Henley Step into the captivating world of this darkly comedic gem set against the sultry backdrop of Mississippi\, where the MaGrath sisters converge for a reunion that promises to be anything but ordinary. As they navigate the tumultuous waters of family dysfunction\, each sister brings her own unique blend of humor and emotional vulnerability\, creating a tapestry of laughter and introspection that will resonate with anyone who has ever grappled with the complexities of familial ties. CRIMES OF THE HEART is presented by special arrangement with Broadway Licensing\, LLC\, servicing the Dramatists Play Service collection. (www.dramatists.com) Directed by Tysha Calhoun Show Dates/Times (February 21 - March 16): FRI & SAT - 7:30PM SUNDAY - 2:30PM The Wimberley Players 450 Old Kyle Road Wimberley\, TX. 78676 (512) 847-0575 www.WimberleyPlayers.org Tickets available by phone and online -Adults $30 -Students with ID $20 -Groups of 8 or more receive $2 discount per ticket Concessions available: Sodas\, Beer\, Wine\, Coffee\, Cookies\, Candies & Snacks Disability parking\; disability seating\; disability restrooms\; hearing aid devices available CAST: Lenny - Sarah Coyle Meg - Emily-Ann Patterson Babe - Kelly Menz Chick - Elle Klein Garrison Barnette - David Young Doc - Samuel Ellisor
X-ALT-DESC;FMTTYPE=text/html:Feb 21 - March 16 Crimes Of The Heart By Beth Henley Step into the captivating world of this darkly comedic gem set against the sultry backdrop of Mississippi\, where the MaGrath sisters converge for a reunion that promises to be anything but ordinary. As they navigate the tumultuous waters of family dysfunction\, each sister brings her own unique blend of humor and emotional vulnerability\, creating a tapestry of laughter and introspection that will resonate with anyone who has ever grappled with the complexities of familial ties. CRIMES OF THE HEART is presented by special arrangement with Broadway Licensing\, LLC\, servicing the Dramatists Play Service collection. (www.dramatists.com) Directed by Tysha Calhoun Show Dates/Times (February 21 - March 16): FRI &amp\; SAT - 7:30PM SUNDAY - 2:30PM The Wimberley Players 450 Old Kyle Road Wimberley\, TX. 78676 (512) 847-0575 www.WimberleyPlayers.org Tickets available by phone and online -Adults $30 -Students with ID $20 -Groups of 8 or more receive $2 discount per ticket Concessions available: Sodas\, Beer\, Wine\, Coffee\, Cookies\, Candies &amp\; Snacks Disability parking\; disability seating\; disability restrooms\; hearing aid devices available CAST: Lenny - Sarah Coyle Meg - Emily-Ann Patterson Babe - Kelly Menz Chick - Elle Klein Garrison Barnette - David Young Doc - Samuel Ellisor
LOCATION:The Wimberley Players 450 Old Kyle Road Wimberley\, TX. 78676
UID:e.2626.5160224
SEQUENCE:3
DTSTAMP:20260425T132017Z
URL:https://business.sanmarcostexas.com/events/details/crimes-of-the-heart-02-21-2025-5160224
END:VEVENT

END:VCALENDAR
