BEGIN:VCALENDAR
VERSION:2.0
PRODID:-//ChamberMaster//Event Calendar 2.0//EN
METHOD:PUBLISH
X-PUBLISHED-TTL:P3D
REFRESH-INTERVAL:P3D
CALSCALE:GREGORIAN
BEGIN:VEVENT
DTSTART:20240912T163000Z
DTEND:20240912T180000Z
X-MICROSOFT-CDO-ALLDAYEVENT:FALSE
SUMMARY:Corridor Women's Network Lunch Event
DESCRIPTION:Corridor Women's Network announces insightful lunch event:\n\n\n\nMarketing to the Hispanic Community\n\nFeaturing speakers from the Texas Assoc. of Mexican American Chambers of Commerce \n\n\n\nUpdate - This event sold out on August 26th! The next CWN event will be Dec. 4th at 4:30pm. Details TBA soon!\n\n\n\nSecure your spot at this fun and educational event for women only! Thursday\, September 12 at Chuy's Tex Mex Restaurant!  Women who work and live along the I-35 Corridor between San Antonio and Austin are invited to attend. Enjoy  network-building\, a delicious lunch\, roundtable sharing\, and door prize drawings. \n\n \n\nAt this informative event\, hear from Pauline Anton\, President & CEO of the Texas Association of Mexican American Chambers of Commerce (TAMACC)\, and J.R. Gonzales\, Executive Vice Chair of TAMACC. These distinguished leaders will provide insights into the significant buying power of Hispanics in Texas and share strategies on how to effectively market to this dynamic demographic. Read full details here. \n\n\n\nSpace is limited and we expect this event to sell out quickly! \n\n\n\nTake advantage of the early rate and register online now. Don't miss this opportunity to enhance your marketing skills and expand your network.\n\n\n\n\n\nWant to increase exposure for your organization?\n\nInterested in promoting your business at this or a future Corridor Women's Network event? View sponsorship details here. Reach out to Chamber President Page Michel via email or by calling 512-393-5900 to confirm a valuable sponsorship!
X-ALT-DESC;FMTTYPE=text/html:<span style="font-size:14px\;"><span style="font-family:verdana\;"><span style="font-size:16px\;"><span style="font-family:arial\;"><u><strong>Corridor Women&#39\;s Network announces insightful lunch event:</strong></u></span></span><br />\n<br />\n<em><strong><span style="font-size:16px\;">Marketing to the Hispanic Community</span></strong></em><br />\nFeaturing speakers from the Texas Assoc. of Mexican American Chambers of Commerce&nbsp\;</span></span><br />\n<br />\n<span style="color:#800080\;"><span style="font-size:11px\;"><em>Update - This event sold out on August 26th! The next CWN event will be Dec. 4th at 4:30pm. Details TBA soon!</em></span></span><br />\n<br />\n<span style="font-family:calibri\,sans-serif\;">Secure your spot at this fun and educational event for women only! <strong>Thursday\, September 12&nbsp\;</strong>at Chuy&#39\;s Tex Mex Restaurant!&nbsp\;&nbsp\;</span><span style="font-family:calibri\,sans-serif\;">Women who work and live along the I-35 Corridor between San Antonio and Austin are invited to attend. Enjoy&nbsp\; network-building\, a delicious lunch\, roundtable sharing\, and door prize drawings. </span><br />\n&nbsp\;<br />\n<span style="font-family:calibri\,sans-serif\;">At this informative event\, hear from&nbsp\;<strong>Pauline Anton</strong>\, President &amp\; CEO of the Texas Association of Mexican American Chambers of Commerce (TAMACC)\, and <strong>J.R. Gonzales</strong>\, Executive Vice Chair of TAMACC. These distinguished leaders will provide insights into the significant buying power of Hispanics in Texas and share strategies on how to effectively market to this dynamic demographic. <strong><a href="https://chambermaster.blob.core.windows.net/userfiles/UserFiles/chambers/2626/File/Pressrelease-CorridorWomensNetworkeventSept122024.pdf">Read full details here.</a></strong> </span><br />\n<br />\n<span style="font-family:calibri\,sans-serif\;">Space is limited and we expect this event to sell out quickly! </span><br />\n<br />\n<span style="font-family:calibri\,sans-serif\;"><span style="font-size:11.0pt\;">Take advantage of the early rate and register online now. Don&#39\;t miss this opportunity to enhance your marketing skills and expand your network.</span></span><br />\n<br />\n<br />\n<span style="font-size:14px\;"><span style="font-family:verdana\;"><em><span style="color:#8B4513\;"><strong><u>Want to increase exposure for your organization?</u></strong><br />\nInterested in promoting your business at this or a future Corridor Women&#39\;s Network event? <a href="https://chambermaster.blob.core.windows.net/userfiles/UserFiles/chambers/2626/File/CorridorWomensNetworkSponsorshipOpportunitiesDec2024-June2025.pdf">View sponsorship details here.</a> Reach out to Chamber President Page Michel via email or by calling 512-393-5900 to confirm a valuable sponsorship!</span></em></span></span><br />\n&nbsp\;
LOCATION:Chuy's Tex Mex Private Group Room 1121 IH-35\, San Marcos
UID:e.2626.5159734
SEQUENCE:3
DTSTAMP:20260425T032638Z
URL:https://business.sanmarcostexas.com/events/details/corridor-women-s-network-lunch-event-5159734
END:VEVENT

END:VCALENDAR
