BEGIN:VCALENDAR
VERSION:2.0
PRODID:-//ChamberMaster//Event Calendar 2.0//EN
METHOD:PUBLISH
X-PUBLISHED-TTL:P3D
REFRESH-INTERVAL:P3D
CALSCALE:GREGORIAN
BEGIN:VEVENT
DTSTART:20250205T223000Z
DTEND:20250206T003000Z
X-MICROSOFT-CDO-ALLDAYEVENT:FALSE
SUMMARY:Corridor Women's Network Galentine's Celebration
DESCRIPTION:Galentine's Celebration: Red Dahlia Takeover \n\n \n\nJoin the Corridor Women's Network for an evening of connection and giving back at the beautiful Blue Dahlia Bistro in Downtown San Marcos. Be part of this "restaurant takeover" and help transform it into the "Red Dahlia" just for us!\n\n   Radiate in Red: Embrace the color of the event. Whether it's a scarf\, hat\, jacket or a full outfit\, wear red to join the festive Galentine's spirit.\n\n  Restaurant Takeover: Experience a deliciously curated evening with gourmet food and drinks.\n\n\n\n  Spread the Love: Bring one of your personal favorite self-care or makeup items (new) to donate to the Hays Caldwell Women's Center. Let's uplift and brighten the lives of women who need our care.\n\nPlan to attend to make new connections\, enjoy the event's ambiance\, and celebrate Galentine's with a purpose. This evening promises to leave you inspired and energized!\n\nSeating is limited at this venue. RSVP now to reserve your spot! Click REGISTER on this page. \n\n\n\nTickets:  $59 per person\n\nIncludes a delicious spread of gourmet entrees\, cheese boards\, desserts and 2 cocktails/drinks of your choice\, plus door prize drawings!\n\n\n\nAttire: Business Casual/Downtown SMTX Chic -- plus wear something red!
X-ALT-DESC;FMTTYPE=text/html:<div class="x_elementToProof" style="border: 0px\; font-style: inherit\; font-variant: inherit\; font-weight: inherit\; font-stretch: inherit\; font-size: 14pt\; line-height: inherit\; font-family: Aptos\, Aptos_EmbeddedFont\, Aptos_MSFontService\, Calibri\, Helvetica\, sans-serif\, serif\, EmojiFont\; font-optical-sizing: inherit\; font-size-adjust: inherit\; font-kerning: inherit\; font-feature-settings: inherit\; font-variation-settings: inherit\; margin: 0px\; padding: 0px\; vertical-align: baseline\; color: rgb(134\, 17\, 6)\; direction: ltr\;"><b><i data-olk-copy-source="MessageBody">Galentine&#39\;s Celebration: Red Dahlia Takeover&nbsp\;</i></b></div>\n\n<div class="x_elementToProof" style="border: 0px\; font-style: inherit\; font-variant: inherit\; font-weight: inherit\; font-stretch: inherit\; font-size: 11pt\; line-height: inherit\; font-family: Aptos\, Aptos_EmbeddedFont\, Aptos_MSFontService\, Calibri\, Helvetica\, sans-serif\, serif\, EmojiFont\; font-optical-sizing: inherit\; font-size-adjust: inherit\; font-kerning: inherit\; font-feature-settings: inherit\; font-variation-settings: inherit\; margin: 0px\; padding: 0px\; vertical-align: baseline\; direction: ltr\;">&nbsp\;</div>\n\n<div style="border: 0px\; font-style: inherit\; font-variant: inherit\; font-weight: inherit\; font-stretch: inherit\; font-size: 11pt\; line-height: inherit\; font-family: Aptos\, Aptos_EmbeddedFont\, Aptos_MSFontService\, Calibri\, Helvetica\, sans-serif\, serif\, EmojiFont\; font-optical-sizing: inherit\; font-size-adjust: inherit\; font-kerning: inherit\; font-feature-settings: inherit\; font-variation-settings: inherit\; margin: 0px\; padding: 0px\; vertical-align: baseline\; direction: ltr\;">Join the Corridor Women&#39\;s Network for an evening of connection and giving back at the beautiful&nbsp\;<b>Blue Dahlia Bistro&nbsp\;</b>in<b>&nbsp\;Downtown San Marcos.</b>&nbsp\;Be part of this &quot\;restaurant takeover&quot\; and help transform it into the &quot\;Red Dahlia&quot\;&nbsp\;just for us!</div>\n\n<div style="border: 0px\; font-style: inherit\; font-variant: inherit\; font-weight: inherit\; font-stretch: inherit\; font-size: 11pt\; line-height: inherit\; font-family: Aptos\, Aptos_EmbeddedFont\, Aptos_MSFontService\, Calibri\, Helvetica\, sans-serif\, serif\, EmojiFont\; font-optical-sizing: inherit\; font-size-adjust: inherit\; font-kerning: inherit\; font-feature-settings: inherit\; font-variation-settings: inherit\; margin: 1em 0px\; padding: 0px\; vertical-align: baseline\; direction: ltr\;">&#10084\;&#65039\;&nbsp\;<b>Radiate in Red</b>: Embrace the color of the event. Whether it&#39\;s a scarf\, hat\, jacket&nbsp\;or a full outfit\, wear red to join the festive Galentine&#39\;s spirit.</div>\n\n<div style="border: 0px\; font-style: inherit\; font-variant: inherit\; font-weight: inherit\; font-stretch: inherit\; font-size: 11pt\; line-height: inherit\; font-family: Aptos\, Aptos_EmbeddedFont\, Aptos_MSFontService\, Calibri\, Helvetica\, sans-serif\, serif\, EmojiFont\; font-optical-sizing: inherit\; font-size-adjust: inherit\; font-kerning: inherit\; font-feature-settings: inherit\; font-variation-settings: inherit\; margin: 1em 0px\; padding: 0px\; vertical-align: baseline\; direction: ltr\;">&#127801\;&nbsp\;<b>Restaurant Takeover</b>: Experience a deliciously curated evening with gourmet food and drinks.<br />\n<br />\n&#128132\;&nbsp\;<b>Spread the Love</b>: Bring one of your personal favorite self-care or makeup items (new) to donate to the Hays Caldwell Women&#39\;s Center. Let&#39\;s uplift and brighten the lives of women who need our care.</div>\n\n<div style="border: 0px\; font-style: inherit\; font-variant: inherit\; font-weight: inherit\; font-stretch: inherit\; font-size: 11pt\; line-height: inherit\; font-family: Aptos\, Aptos_EmbeddedFont\, Aptos_MSFontService\, Calibri\, Helvetica\, sans-serif\, serif\, EmojiFont\; font-optical-sizing: inherit\; font-size-adjust: inherit\; font-kerning: inherit\; font-feature-settings: inherit\; font-variation-settings: inherit\; margin: 1em 0px\; padding: 0px\; vertical-align: baseline\; direction: ltr\;">Plan to attend to make new connections\, enjoy the event&#39\;s ambiance\, and celebrate Galentine&#39\;s with a purpose. This evening promises to leave you inspired and energized!</div>\n\n<div class="x_elementToProof" style="border: 0px\; font-style: inherit\; font-variant: inherit\; font-weight: inherit\; font-stretch: inherit\; font-size: 11pt\; line-height: inherit\; font-family: Aptos\, Aptos_EmbeddedFont\, Aptos_MSFontService\, Calibri\, Helvetica\, sans-serif\, serif\, EmojiFont\; font-optical-sizing: inherit\; font-size-adjust: inherit\; font-kerning: inherit\; font-feature-settings: inherit\; font-variation-settings: inherit\; margin: 1em 0px\; padding: 0px\; vertical-align: baseline\; direction: ltr\;"><b>Seating is limited at this venue. RSVP now to reserve your spot!&nbsp\;</b>Click REGISTER on this page.&nbsp\;<br />\n<br />\n<u><strong>Tickets:</strong></u>&nbsp\;&nbsp\;$59&nbsp\;per person<br />\nIncludes a delicious spread of gourmet entrees\, cheese boards\, desserts and 2 cocktails/drinks of your choice\, plus door prize drawings!<br />\n<br />\n<u><strong>Attire</strong></u>: Business Casual/Downtown SMTX&nbsp\;Chic -- plus wear something red!</div>\n
LOCATION:Location: Blue Dahlia Bistro Address: 107 E Hopkins St\, San Marcos\, TX 78666
UID:e.2626.5160092
SEQUENCE:3
DTSTAMP:20260425T131804Z
URL:https://business.sanmarcostexas.com/events/details/corridor-women-s-network-galentine-s-celebration-5160092
END:VEVENT

END:VCALENDAR
