BEGIN:VCALENDAR
VERSION:2.0
PRODID:-//ChamberMaster//Event Calendar 2.0//EN
METHOD:PUBLISH
X-PUBLISHED-TTL:P3D
REFRESH-INTERVAL:P3D
CALSCALE:GREGORIAN
BEGIN:VEVENT
DTSTART:20220110T230000Z
DTEND:20220111T010000Z
X-MICROSOFT-CDO-ALLDAYEVENT:FALSE
SUMMARY:Comal ISD Job Fair
DESCRIPTION:Celebrate the New Year with a great new job! Comal ISD will be hosting a Job Fair\, January 10\, 2022 from 5-7PM. This event will be held at Support Services\, 1404 IH 35 North\, New Braunfels\, 78130. We are hiring all positions and we cannot wait to meet you!
X-ALT-DESC;FMTTYPE=text/html:Celebrate the New Year with a great new job! Comal ISD will be hosting a Job Fair\, January 10\, 2022 from 5-7PM. This event will be held at Support Services\, 1404 IH 35 North\, New Braunfels\, 78130. We are hiring all positions and we cannot wait to meet you!
LOCATION:1404 IH 35 N New Braunfels\, TX 78130
UID:e.2626.5157890
SEQUENCE:3
DTSTAMP:20260422T025945Z
URL:https://business.sanmarcostexas.com/events/details/comal-isd-job-fair-01-10-2022-5157890
END:VEVENT

END:VCALENDAR
