BEGIN:VCALENDAR
VERSION:2.0
PRODID:-//ChamberMaster//Event Calendar 2.0//EN
METHOD:PUBLISH
X-PUBLISHED-TTL:P3D
REFRESH-INTERVAL:P3D
CALSCALE:GREGORIAN
BEGIN:VEVENT
DTSTART:20260626T133000Z
DTEND:20260626T150000Z
X-MICROSOFT-CDO-ALLDAYEVENT:FALSE
SUMMARY:Coffee & Commerce - Pets & Moore
DESCRIPTION:Meet up with other business and civic leaders at this network-building event! \n\n\n\nStart your day by meeting and connecting with other local businesspeople\, exchanging ideas\, and discovering new opportunities to grow your business. Enjoy coffee and breakfast treats to fuel your networking!\n\n\n\nWell-behaved pups on a leash will be welcome at this event!\n\n\n\nEvery attendee will get to give a 30-second pitch from their business! Tell the group about your ideal customer referral or about an event. After the event\, you will receive a copy of every attendee's business card.  And they will each receive YOURS!\n\n \nCoffee & Commerce is free for Chamber members\, but your RVSP is requested. Please click the "REGISTER" button on this page.\n\n \n\nPro Tip:\n\nBring a gift certificate or gift basket/item from your business when you attend! Add it to the door prize drawings. It's a great way to promote your business at the event plus generate a new customer you can follow up with!\n\n\n\nNot (yet) a Chamber Member?!\n\nBusiness representatives who are not already members are WELCOME to attend up to two times before joining to experience the benefit of Chamber networking events! There is a fee of $20 per person in advance ($25 at the door) for non-members. But you may request a complimentary pass by contacting us in advance! Send an EMAIL to tiffany@sanmarcostexas.com to request a Guest Pass.  Or\, simply click REGISTER on this page now and check out as a Guest to take advantage of the advance discount. We look forward to meeting you soon!
X-ALT-DESC;FMTTYPE=text/html:<div style="margin-top:0in\;margin-right:0in\;margin-bottom:6.0pt\;"><strong><span style="box-sizing: border-box\; --tw-border-spacing-x: 0\; --tw-border-spacing-y: 0\; --tw-translate-x: 0\; --tw-translate-y: 0\; --tw-rotate: 0\; --tw-skew-x: 0\; --tw-skew-y: 0\; --tw-scale-x: 1\; --tw-scale-y: 1\; --tw-pan-x: \; --tw-pan-y: \; --tw-pinch-zoom: \; --tw-scroll-snap-strictness: proximity\; --tw-gradient-from-position: \; --tw-gradient-via-position: \; --tw-gradient-to-position: \; --tw-ordinal: \; --tw-slashed-zero: \; --tw-numeric-figure: \; --tw-numeric-spacing: \; --tw-numeric-fraction: \; --tw-ring-inset: \; --tw-ring-offset-width: 0px\; --tw-ring-offset-color: #fff\; --tw-ring-color: rgb(59 130 246 / 0.5)\; --tw-ring-offset-shadow: 0 0 #0000\; --tw-ring-shadow: 0 0 #0000\; --tw-shadow: 0 0 #0000\; --tw-shadow-colored: 0 0 #0000\; --tw-blur: \; --tw-brightness: \; --tw-contrast: \; --tw-grayscale: \; --tw-hue-rotate: \; --tw-invert: \; --tw-saturate: \; --tw-sepia: \; --tw-drop-shadow: \; --tw-backdrop-blur: \; --tw-backdrop-brightness: \; --tw-backdrop-contrast: \; --tw-backdrop-grayscale: \; --tw-backdrop-hue-rotate: \; --tw-backdrop-invert: \; --tw-backdrop-opacity: \; --tw-backdrop-saturate: \; --tw-backdrop-sepia: \; color: rgb(54\, 54\, 54)\; font-size: 16px\; font-family: verdana\;"><span style="box-sizing: border-box\; --tw-border-spacing-x: 0\; --tw-border-spacing-y: 0\; --tw-translate-x: 0\; --tw-translate-y: 0\; --tw-rotate: 0\; --tw-skew-x: 0\; --tw-skew-y: 0\; --tw-scale-x: 1\; --tw-scale-y: 1\; --tw-pan-x: \; --tw-pan-y: \; --tw-pinch-zoom: \; --tw-scroll-snap-strictness: proximity\; --tw-gradient-from-position: \; --tw-gradient-via-position: \; --tw-gradient-to-position: \; --tw-ordinal: \; --tw-slashed-zero: \; --tw-numeric-figure: \; --tw-numeric-spacing: \; --tw-numeric-fraction: \; --tw-ring-inset: \; --tw-ring-offset-width: 0px\; --tw-ring-offset-color: #fff\; --tw-ring-color: rgb(59 130 246 / 0.5)\; --tw-ring-offset-shadow: 0 0 #0000\; --tw-ring-shadow: 0 0 #0000\; --tw-shadow: 0 0 #0000\; --tw-shadow-colored: 0 0 #0000\; --tw-blur: \; --tw-brightness: \; --tw-contrast: \; --tw-grayscale: \; --tw-hue-rotate: \; --tw-invert: \; --tw-saturate: \; --tw-sepia: \; --tw-drop-shadow: \; --tw-backdrop-blur: \; --tw-backdrop-brightness: \; --tw-backdrop-contrast: \; --tw-backdrop-grayscale: \; --tw-backdrop-hue-rotate: \; --tw-backdrop-invert: \; --tw-backdrop-opacity: \; --tw-backdrop-saturate: \; --tw-backdrop-sepia: \; font-size: 14px\;"><span style="box-sizing: border-box\; --tw-border-spacing-x: 0\; --tw-border-spacing-y: 0\; --tw-translate-x: 0\; --tw-translate-y: 0\; --tw-rotate: 0\; --tw-skew-x: 0\; --tw-skew-y: 0\; --tw-scale-x: 1\; --tw-scale-y: 1\; --tw-pan-x: \; --tw-pan-y: \; --tw-pinch-zoom: \; --tw-scroll-snap-strictness: proximity\; --tw-gradient-from-position: \; --tw-gradient-via-position: \; --tw-gradient-to-position: \; --tw-ordinal: \; --tw-slashed-zero: \; --tw-numeric-figure: \; --tw-numeric-spacing: \; --tw-numeric-fraction: \; --tw-ring-inset: \; --tw-ring-offset-width: 0px\; --tw-ring-offset-color: #fff\; --tw-ring-color: rgb(59 130 246 / 0.5)\; --tw-ring-offset-shadow: 0 0 #0000\; --tw-ring-shadow: 0 0 #0000\; --tw-shadow: 0 0 #0000\; --tw-shadow-colored: 0 0 #0000\; --tw-blur: \; --tw-brightness: \; --tw-contrast: \; --tw-grayscale: \; --tw-hue-rotate: \; --tw-invert: \; --tw-saturate: \; --tw-sepia: \; --tw-drop-shadow: \; --tw-backdrop-blur: \; --tw-backdrop-brightness: \; --tw-backdrop-contrast: \; --tw-backdrop-grayscale: \; --tw-backdrop-hue-rotate: \; --tw-backdrop-invert: \; --tw-backdrop-opacity: \; --tw-backdrop-saturate: \; --tw-backdrop-sepia: \; color: rgb(51\, 102\, 153)\;">Meet up with other business and civic leaders at this network-building event!&nbsp\;</span></span></span></strong><br style="box-sizing: border-box\; --tw-border-spacing-x: 0\; --tw-border-spacing-y: 0\; --tw-translate-x: 0\; --tw-translate-y: 0\; --tw-rotate: 0\; --tw-skew-x: 0\; --tw-skew-y: 0\; --tw-scale-x: 1\; --tw-scale-y: 1\; --tw-pan-x: \; --tw-pan-y: \; --tw-pinch-zoom: \; --tw-scroll-snap-strictness: proximity\; --tw-gradient-from-position: \; --tw-gradient-via-position: \; --tw-gradient-to-position: \; --tw-ordinal: \; --tw-slashed-zero: \; --tw-numeric-figure: \; --tw-numeric-spacing: \; --tw-numeric-fraction: \; --tw-ring-inset: \; --tw-ring-offset-width: 0px\; --tw-ring-offset-color: #fff\; --tw-ring-color: rgb(59 130 246 / 0.5)\; --tw-ring-offset-shadow: 0 0 #0000\; --tw-ring-shadow: 0 0 #0000\; --tw-shadow: 0 0 #0000\; --tw-shadow-colored: 0 0 #0000\; --tw-blur: \; --tw-brightness: \; --tw-contrast: \; --tw-grayscale: \; --tw-hue-rotate: \; --tw-invert: \; --tw-saturate: \; --tw-sepia: \; --tw-drop-shadow: \; --tw-backdrop-blur: \; --tw-backdrop-brightness: \; --tw-backdrop-contrast: \; --tw-backdrop-grayscale: \; --tw-backdrop-hue-rotate: \; --tw-backdrop-invert: \; --tw-backdrop-opacity: \; --tw-backdrop-saturate: \; --tw-backdrop-sepia: \; color: rgb(54\, 54\, 54)\; font-family: Arial\, Helvetica\, sans-serif\; font-size: 16px\;" />\n<br style="box-sizing: border-box\; --tw-border-spacing-x: 0\; --tw-border-spacing-y: 0\; --tw-translate-x: 0\; --tw-translate-y: 0\; --tw-rotate: 0\; --tw-skew-x: 0\; --tw-skew-y: 0\; --tw-scale-x: 1\; --tw-scale-y: 1\; --tw-pan-x: \; --tw-pan-y: \; --tw-pinch-zoom: \; --tw-scroll-snap-strictness: proximity\; --tw-gradient-from-position: \; --tw-gradient-via-position: \; --tw-gradient-to-position: \; --tw-ordinal: \; --tw-slashed-zero: \; --tw-numeric-figure: \; --tw-numeric-spacing: \; --tw-numeric-fraction: \; --tw-ring-inset: \; --tw-ring-offset-width: 0px\; --tw-ring-offset-color: #fff\; --tw-ring-color: rgb(59 130 246 / 0.5)\; --tw-ring-offset-shadow: 0 0 #0000\; --tw-ring-shadow: 0 0 #0000\; --tw-shadow: 0 0 #0000\; --tw-shadow-colored: 0 0 #0000\; --tw-blur: \; --tw-brightness: \; --tw-contrast: \; --tw-grayscale: \; --tw-hue-rotate: \; --tw-invert: \; --tw-saturate: \; --tw-sepia: \; --tw-drop-shadow: \; --tw-backdrop-blur: \; --tw-backdrop-brightness: \; --tw-backdrop-contrast: \; --tw-backdrop-grayscale: \; --tw-backdrop-hue-rotate: \; --tw-backdrop-invert: \; --tw-backdrop-opacity: \; --tw-backdrop-saturate: \; --tw-backdrop-sepia: \; color: rgb(54\, 54\, 54)\; font-family: Arial\, Helvetica\, sans-serif\; font-size: 16px\;" />\n<span style="box-sizing: border-box\; --tw-border-spacing-x: 0\; --tw-border-spacing-y: 0\; --tw-translate-x: 0\; --tw-translate-y: 0\; --tw-rotate: 0\; --tw-skew-x: 0\; --tw-skew-y: 0\; --tw-scale-x: 1\; --tw-scale-y: 1\; --tw-pan-x: \; --tw-pan-y: \; --tw-pinch-zoom: \; --tw-scroll-snap-strictness: proximity\; --tw-gradient-from-position: \; --tw-gradient-via-position: \; --tw-gradient-to-position: \; --tw-ordinal: \; --tw-slashed-zero: \; --tw-numeric-figure: \; --tw-numeric-spacing: \; --tw-numeric-fraction: \; --tw-ring-inset: \; --tw-ring-offset-width: 0px\; --tw-ring-offset-color: #fff\; --tw-ring-color: rgb(59 130 246 / 0.5)\; --tw-ring-offset-shadow: 0 0 #0000\; --tw-ring-shadow: 0 0 #0000\; --tw-shadow: 0 0 #0000\; --tw-shadow-colored: 0 0 #0000\; --tw-blur: \; --tw-brightness: \; --tw-contrast: \; --tw-grayscale: \; --tw-hue-rotate: \; --tw-invert: \; --tw-saturate: \; --tw-sepia: \; --tw-drop-shadow: \; --tw-backdrop-blur: \; --tw-backdrop-brightness: \; --tw-backdrop-contrast: \; --tw-backdrop-grayscale: \; --tw-backdrop-hue-rotate: \; --tw-backdrop-invert: \; --tw-backdrop-opacity: \; --tw-backdrop-saturate: \; --tw-backdrop-sepia: \; font-family: Arial\, Verdana\, Helvetica\, sans-serif\; font-size: 14px\; text-align: justify\; color: rgb(0\, 0\, 0)\;">Start your day by meeting and connecting with other local businesspeople\, exchanging ideas\, and discovering new opportunities to grow&nbsp\;</span><span style="box-sizing: border-box\; --tw-border-spacing-x: 0\; --tw-border-spacing-y: 0\; --tw-translate-x: 0\; --tw-translate-y: 0\; --tw-rotate: 0\; --tw-skew-x: 0\; --tw-skew-y: 0\; --tw-scale-x: 1\; --tw-scale-y: 1\; --tw-pan-x: \; --tw-pan-y: \; --tw-pinch-zoom: \; --tw-scroll-snap-strictness: proximity\; --tw-gradient-from-position: \; --tw-gradient-via-position: \; --tw-gradient-to-position: \; --tw-ordinal: \; --tw-slashed-zero: \; --tw-numeric-figure: \; --tw-numeric-spacing: \; --tw-numeric-fraction: \; --tw-ring-inset: \; --tw-ring-offset-width: 0px\; --tw-ring-offset-color: #fff\; --tw-ring-color: rgb(59 130 246 / 0.5)\; --tw-ring-offset-shadow: 0 0 #0000\; --tw-ring-shadow: 0 0 #0000\; --tw-shadow: 0 0 #0000\; --tw-shadow-colored: 0 0 #0000\; --tw-blur: \; --tw-brightness: \; --tw-contrast: \; --tw-grayscale: \; --tw-hue-rotate: \; --tw-invert: \; --tw-saturate: \; --tw-sepia: \; --tw-drop-shadow: \; --tw-backdrop-blur: \; --tw-backdrop-brightness: \; --tw-backdrop-contrast: \; --tw-backdrop-grayscale: \; --tw-backdrop-hue-rotate: \; --tw-backdrop-invert: \; --tw-backdrop-opacity: \; --tw-backdrop-saturate: \; --tw-backdrop-sepia: \; font-family: Arial\, Verdana\, Helvetica\, sans-serif\; font-size: 14px\; text-align: justify\; color: rgb(0\, 0\, 0)\; font-style: italic\;">your</span><span style="box-sizing: border-box\; --tw-border-spacing-x: 0\; --tw-border-spacing-y: 0\; --tw-translate-x: 0\; --tw-translate-y: 0\; --tw-rotate: 0\; --tw-skew-x: 0\; --tw-skew-y: 0\; --tw-scale-x: 1\; --tw-scale-y: 1\; --tw-pan-x: \; --tw-pan-y: \; --tw-pinch-zoom: \; --tw-scroll-snap-strictness: proximity\; --tw-gradient-from-position: \; --tw-gradient-via-position: \; --tw-gradient-to-position: \; --tw-ordinal: \; --tw-slashed-zero: \; --tw-numeric-figure: \; --tw-numeric-spacing: \; --tw-numeric-fraction: \; --tw-ring-inset: \; --tw-ring-offset-width: 0px\; --tw-ring-offset-color: #fff\; --tw-ring-color: rgb(59 130 246 / 0.5)\; --tw-ring-offset-shadow: 0 0 #0000\; --tw-ring-shadow: 0 0 #0000\; --tw-shadow: 0 0 #0000\; --tw-shadow-colored: 0 0 #0000\; --tw-blur: \; --tw-brightness: \; --tw-contrast: \; --tw-grayscale: \; --tw-hue-rotate: \; --tw-invert: \; --tw-saturate: \; --tw-sepia: \; --tw-drop-shadow: \; --tw-backdrop-blur: \; --tw-backdrop-brightness: \; --tw-backdrop-contrast: \; --tw-backdrop-grayscale: \; --tw-backdrop-hue-rotate: \; --tw-backdrop-invert: \; --tw-backdrop-opacity: \; --tw-backdrop-saturate: \; --tw-backdrop-sepia: \; font-family: Arial\, Verdana\, Helvetica\, sans-serif\; font-size: 14px\; text-align: justify\; color: rgb(0\, 0\, 0)\;">&nbsp\;business. Enjoy coffee and breakfast treats to fuel your networking!<br />\n<br />\n<em><strong>Well-behaved pups <u>on a leash</u> will be welcome at this event!</strong></em><br style="box-sizing: border-box\; --tw-border-spacing-x: 0\; --tw-border-spacing-y: 0\; --tw-translate-x: 0\; --tw-translate-y: 0\; --tw-rotate: 0\; --tw-skew-x: 0\; --tw-skew-y: 0\; --tw-scale-x: 1\; --tw-scale-y: 1\; --tw-pan-x: \; --tw-pan-y: \; --tw-pinch-zoom: \; --tw-scroll-snap-strictness: proximity\; --tw-gradient-from-position: \; --tw-gradient-via-position: \; --tw-gradient-to-position: \; --tw-ordinal: \; --tw-slashed-zero: \; --tw-numeric-figure: \; --tw-numeric-spacing: \; --tw-numeric-fraction: \; --tw-ring-inset: \; --tw-ring-offset-width: 0px\; --tw-ring-offset-color: #fff\; --tw-ring-color: rgb(59 130 246 / 0.5)\; --tw-ring-offset-shadow: 0 0 #0000\; --tw-ring-shadow: 0 0 #0000\; --tw-shadow: 0 0 #0000\; --tw-shadow-colored: 0 0 #0000\; --tw-blur: \; --tw-brightness: \; --tw-contrast: \; --tw-grayscale: \; --tw-hue-rotate: \; --tw-invert: \; --tw-saturate: \; --tw-sepia: \; --tw-drop-shadow: \; --tw-backdrop-blur: \; --tw-backdrop-brightness: \; --tw-backdrop-contrast: \; --tw-backdrop-grayscale: \; --tw-backdrop-hue-rotate: \; --tw-backdrop-invert: \; --tw-backdrop-opacity: \; --tw-backdrop-saturate: \; --tw-backdrop-sepia: \;" />\n<br style="box-sizing: border-box\; --tw-border-spacing-x: 0\; --tw-border-spacing-y: 0\; --tw-translate-x: 0\; --tw-translate-y: 0\; --tw-rotate: 0\; --tw-skew-x: 0\; --tw-skew-y: 0\; --tw-scale-x: 1\; --tw-scale-y: 1\; --tw-pan-x: \; --tw-pan-y: \; --tw-pinch-zoom: \; --tw-scroll-snap-strictness: proximity\; --tw-gradient-from-position: \; --tw-gradient-via-position: \; --tw-gradient-to-position: \; --tw-ordinal: \; --tw-slashed-zero: \; --tw-numeric-figure: \; --tw-numeric-spacing: \; --tw-numeric-fraction: \; --tw-ring-inset: \; --tw-ring-offset-width: 0px\; --tw-ring-offset-color: #fff\; --tw-ring-color: rgb(59 130 246 / 0.5)\; --tw-ring-offset-shadow: 0 0 #0000\; --tw-ring-shadow: 0 0 #0000\; --tw-shadow: 0 0 #0000\; --tw-shadow-colored: 0 0 #0000\; --tw-blur: \; --tw-brightness: \; --tw-contrast: \; --tw-grayscale: \; --tw-hue-rotate: \; --tw-invert: \; --tw-saturate: \; --tw-sepia: \; --tw-drop-shadow: \; --tw-backdrop-blur: \; --tw-backdrop-brightness: \; --tw-backdrop-contrast: \; --tw-backdrop-grayscale: \; --tw-backdrop-hue-rotate: \; --tw-backdrop-invert: \; --tw-backdrop-opacity: \; --tw-backdrop-saturate: \; --tw-backdrop-sepia: \;" />\nEvery attendee will get to give a 30-second pitch from their business! Tell the group about your ideal customer referral or about an event. After the event\, you will receive a copy of every attendee&#39\;s business card.&nbsp\; And they will each receive YOURS!</span><br style="box-sizing: border-box\; --tw-border-spacing-x: 0\; --tw-border-spacing-y: 0\; --tw-translate-x: 0\; --tw-translate-y: 0\; --tw-rotate: 0\; --tw-skew-x: 0\; --tw-skew-y: 0\; --tw-scale-x: 1\; --tw-scale-y: 1\; --tw-pan-x: \; --tw-pan-y: \; --tw-pinch-zoom: \; --tw-scroll-snap-strictness: proximity\; --tw-gradient-from-position: \; --tw-gradient-via-position: \; --tw-gradient-to-position: \; --tw-ordinal: \; --tw-slashed-zero: \; --tw-numeric-figure: \; --tw-numeric-spacing: \; --tw-numeric-fraction: \; --tw-ring-inset: \; --tw-ring-offset-width: 0px\; --tw-ring-offset-color: #fff\; --tw-ring-color: rgb(59 130 246 / 0.5)\; --tw-ring-offset-shadow: 0 0 #0000\; --tw-ring-shadow: 0 0 #0000\; --tw-shadow: 0 0 #0000\; --tw-shadow-colored: 0 0 #0000\; --tw-blur: \; --tw-brightness: \; --tw-contrast: \; --tw-grayscale: \; --tw-hue-rotate: \; --tw-invert: \; --tw-saturate: \; --tw-sepia: \; --tw-drop-shadow: \; --tw-backdrop-blur: \; --tw-backdrop-brightness: \; --tw-backdrop-contrast: \; --tw-backdrop-grayscale: \; --tw-backdrop-hue-rotate: \; --tw-backdrop-invert: \; --tw-backdrop-opacity: \; --tw-backdrop-saturate: \; --tw-backdrop-sepia: \; color: rgb(54\, 54\, 54)\; font-family: Arial\, Helvetica\, sans-serif\; font-size: 16px\;" />\n<span style="color: rgb(54\, 54\, 54)\; font-family: Arial\, Helvetica\, sans-serif\; font-size: 16px\;">&nbsp\;</span>\n<p style="box-sizing: border-box\; --tw-border-spacing-x: 0\; --tw-border-spacing-y: 0\; --tw-translate-x: 0\; --tw-translate-y: 0\; --tw-rotate: 0\; --tw-skew-x: 0\; --tw-skew-y: 0\; --tw-scale-x: 1\; --tw-scale-y: 1\; --tw-pan-x: \; --tw-pan-y: \; --tw-pinch-zoom: \; --tw-scroll-snap-strictness: proximity\; --tw-gradient-from-position: \; --tw-gradient-via-position: \; --tw-gradient-to-position: \; --tw-ordinal: \; --tw-slashed-zero: \; --tw-numeric-figure: \; --tw-numeric-spacing: \; --tw-numeric-fraction: \; --tw-ring-inset: \; --tw-ring-offset-width: 0px\; --tw-ring-offset-color: #fff\; --tw-ring-color: rgb(59 130 246 / 0.5)\; --tw-ring-offset-shadow: 0 0 #0000\; --tw-ring-shadow: 0 0 #0000\; --tw-shadow: 0 0 #0000\; --tw-shadow-colored: 0 0 #0000\; --tw-blur: \; --tw-brightness: \; --tw-contrast: \; --tw-grayscale: \; --tw-hue-rotate: \; --tw-invert: \; --tw-saturate: \; --tw-sepia: \; --tw-drop-shadow: \; --tw-backdrop-blur: \; --tw-backdrop-brightness: \; --tw-backdrop-contrast: \; --tw-backdrop-grayscale: \; --tw-backdrop-hue-rotate: \; --tw-backdrop-invert: \; --tw-backdrop-opacity: \; --tw-backdrop-saturate: \; --tw-backdrop-sepia: \; margin: 0px\; padding: 0px\; color: rgb(17\, 17\, 17)\; font-family: Arial\, Verdana\, Helvetica\, sans-serif\; font-size: 14px\;"><span style="box-sizing: border-box\; --tw-border-spacing-x: 0\; --tw-border-spacing-y: 0\; --tw-translate-x: 0\; --tw-translate-y: 0\; --tw-rotate: 0\; --tw-skew-x: 0\; --tw-skew-y: 0\; --tw-scale-x: 1\; --tw-scale-y: 1\; --tw-pan-x: \; --tw-pan-y: \; --tw-pinch-zoom: \; --tw-scroll-snap-strictness: proximity\; --tw-gradient-from-position: \; --tw-gradient-via-position: \; --tw-gradient-to-position: \; --tw-ordinal: \; --tw-slashed-zero: \; --tw-numeric-figure: \; --tw-numeric-spacing: \; --tw-numeric-fraction: \; --tw-ring-inset: \; --tw-ring-offset-width: 0px\; --tw-ring-offset-color: #fff\; --tw-ring-color: rgb(59 130 246 / 0.5)\; --tw-ring-offset-shadow: 0 0 #0000\; --tw-ring-shadow: 0 0 #0000\; --tw-shadow: 0 0 #0000\; --tw-shadow-colored: 0 0 #0000\; --tw-blur: \; --tw-brightness: \; --tw-contrast: \; --tw-grayscale: \; --tw-hue-rotate: \; --tw-invert: \; --tw-saturate: \; --tw-sepia: \; --tw-drop-shadow: \; --tw-backdrop-blur: \; --tw-backdrop-brightness: \; --tw-backdrop-contrast: \; --tw-backdrop-grayscale: \; --tw-backdrop-hue-rotate: \; --tw-backdrop-invert: \; --tw-backdrop-opacity: \; --tw-backdrop-saturate: \; --tw-backdrop-sepia: \; font-size: 15px\; color: rgb(55\, 65\, 81)\; font-weight: bold\;">Coffee &amp\; Commerce is free for Chamber members\, but your RVSP is requested. Please click the &quot\;REGISTER&quot\; button on this page.</span></p>\n\n<div style="box-sizing: border-box\; --tw-border-spacing-x: 0\; --tw-border-spacing-y: 0\; --tw-translate-x: 0\; --tw-translate-y: 0\; --tw-rotate: 0\; --tw-skew-x: 0\; --tw-skew-y: 0\; --tw-scale-x: 1\; --tw-scale-y: 1\; --tw-pan-x: \; --tw-pan-y: \; --tw-pinch-zoom: \; --tw-scroll-snap-strictness: proximity\; --tw-gradient-from-position: \; --tw-gradient-via-position: \; --tw-gradient-to-position: \; --tw-ordinal: \; --tw-slashed-zero: \; --tw-numeric-figure: \; --tw-numeric-spacing: \; --tw-numeric-fraction: \; --tw-ring-inset: \; --tw-ring-offset-width: 0px\; --tw-ring-offset-color: #fff\; --tw-ring-color: rgb(59 130 246 / 0.5)\; --tw-ring-offset-shadow: 0 0 #0000\; --tw-ring-shadow: 0 0 #0000\; --tw-shadow: 0 0 #0000\; --tw-shadow-colored: 0 0 #0000\; --tw-blur: \; --tw-brightness: \; --tw-contrast: \; --tw-grayscale: \; --tw-hue-rotate: \; --tw-invert: \; --tw-saturate: \; --tw-sepia: \; --tw-drop-shadow: \; --tw-backdrop-blur: \; --tw-backdrop-brightness: \; --tw-backdrop-contrast: \; --tw-backdrop-grayscale: \; --tw-backdrop-hue-rotate: \; --tw-backdrop-invert: \; --tw-backdrop-opacity: \; --tw-backdrop-saturate: \; --tw-backdrop-sepia: \; color: rgb(54\, 54\, 54)\; font-family: Arial\, Helvetica\, sans-serif\; font-size: 16px\; margin-top: 0in\; margin-right: 0in\; margin-bottom: 6pt\;">&nbsp\;</div>\n\n<div style="margin-top: 0in\; margin-right: 0in\; margin-bottom: 6pt\;"><span style="font-family:arial\;"><span style="color:#4B0082\;"><em><strong><u>Pro Tip:</u><br />\nBring a gift certificate or gift basket/item from your business when you attend! Add it to the door prize drawings. It&#39\;s a great way to promote your business at the event plus generate a new customer you can follow up with!</strong></em></span><br />\n<br />\n<span style="box-sizing: border-box\; color: rgb(54\, 54\, 54)\; font-size: 11px\;"><span style="box-sizing: border-box\; font-weight: bolder\; color: unset\; font-size: unset\;"><span style="box-sizing: border-box\; font-size: 12px\;"><u style="box-sizing: border-box\;">Not (yet)&nbsp\;a Chamber Member?!</u></span></span></span><br style="box-sizing: border-box\; color: rgb(54\, 54\, 54)\; font-family: Arial\, Helvetica\, sans-serif\; font-size: 16px\;" />\n<span style="box-sizing: border-box\; color: rgb(54\, 54\, 54)\; font-size: 11px\;"><span style="box-sizing: border-box\; font-weight: bolder\; color: unset\; font-size: unset\;">Business representatives who are not already members are&nbsp\;</span><span style="box-sizing: border-box\; color: rgb(178\, 34\, 34)\;">WELCOME to attend up to two times before joining </span><span style="box-sizing: border-box\; font-weight: bolder\; color: unset\; font-size: unset\;">to experience the benefit of Chamber networking events! There is a fee of $20 per person in advance ($25 at the door) for non-members. But you may request a </span></span><em><span style="color:#008000\;"><span style="box-sizing: border-box\; font-size: 11px\;"><span style="box-sizing: border-box\; font-weight: bolder\; font-size: unset\;"><strong><u>complimentary pass</u></strong></span></span></span></em><span style="box-sizing: border-box\; color: rgb(54\, 54\, 54)\; font-size: 11px\;"><span style="box-sizing: border-box\; font-weight: bolder\; color: unset\; font-size: unset\;"><u> </u>by contacting us in advance! Send an EMAIL to tiffany@sanmarcostexas.com to request a </span></span><span style="color:#008000\;"><span style="box-sizing: border-box\; font-size: 11px\;"><span style="box-sizing: border-box\; font-weight: bolder\; font-size: unset\;"><strong><em>Guest Pass</em></strong></span></span></span><span style="box-sizing: border-box\; color: rgb(54\, 54\, 54)\; font-size: 11px\;"><span style="box-sizing: border-box\; font-weight: bolder\; color: unset\; font-size: unset\;">.&nbsp\; Or\, simply click REGISTER on this page now and check out as a Guest to take advantage of the advance discount. <em><strong>We look forward to meeting you soon!&nbsp\;</strong></em></span></span></span></div>\n</div>\n
LOCATION:Pets & Moore 3006 FM 621 San Marcos\, TX 78666
UID:e.2626.5162182
SEQUENCE:3
DTSTAMP:20260421T021403Z
URL:https://business.sanmarcostexas.com/events/details/coffee-commerce-pets-moore-5162182
END:VEVENT

END:VCALENDAR
