BEGIN:VCALENDAR
VERSION:2.0
PRODID:-//ChamberMaster//Event Calendar 2.0//EN
METHOD:PUBLISH
X-PUBLISHED-TTL:P3D
REFRESH-INTERVAL:P3D
CALSCALE:GREGORIAN
BEGIN:VEVENT
DTSTART:20250117T150000Z
DTEND:20250117T160000Z
X-MICROSOFT-CDO-ALLDAYEVENT:FALSE
SUMMARY:Chamber Membership 101- Discover How to Maximize Your Membership!
DESCRIPTION:The San Marcos Area Chamber of Commerce is hosting a Learn How to Maximize Your Membership event in the Chamber office to review the benefits and opportunities available to Chamber members.
X-ALT-DESC;FMTTYPE=text/html:The San Marcos Area Chamber of Commerce is hosting a Learn How to Maximize Your Membership event in the Chamber office to review the benefits and opportunities available to Chamber members.&nbsp\;
LOCATION:San Marcos Area Chamber of Commerce (Back Board Room) 202 N. C.M. Allen Pkwy. San Marcos\, TX 78666
UID:e.2626.5160177
SEQUENCE:3
DTSTAMP:20260425T102850Z
URL:https://business.sanmarcostexas.com/events/details/chamber-membership-101-discover-how-to-maximize-your-membership-5160177
END:VEVENT

END:VCALENDAR
