BEGIN:VCALENDAR
VERSION:2.0
PRODID:-//ChamberMaster//Event Calendar 2.0//EN
METHOD:PUBLISH
X-PUBLISHED-TTL:P3D
REFRESH-INTERVAL:P3D
CALSCALE:GREGORIAN
BEGIN:VEVENT
DTSTART:20221129T150000Z
DTEND:20221129T160000Z
X-MICROSOFT-CDO-ALLDAYEVENT:FALSE
SUMMARY:Chamber Membership 101 - Discover How to Maximize Your Membership!
DESCRIPTION:The San Marcos Area Chamber of Commerce is hosting a Learn How to Maximize Your Membership event in the Chamber office to review the benefits and opportunities available to Chamber members.\n\n\n\nWhether you have just joined or have been a long time supporter\, the event is a fantastic opportunity to connect with our team\, as well as meet other members within the Chamber community!\n\n\n\nWe look forward to seeing you at the event!
X-ALT-DESC;FMTTYPE=text/html:<div style="margin-top:0in\;margin-right:0in\;margin-bottom:6.0pt\;"><span style="font-family:verdana\;"><span style="color:#000000\;"><span style="font-size: 14px\;">The San Marcos Area Chamber of Commerce is hosting a Learn How to Maximize Your Membership event in the Chamber office to review the benefits and opportunities available to Chamber members.<br />\n<br />\nWhether you have just joined or have been a long time supporter\, the event is a fantastic opportunity to connect with our team\, as well as meet other members within the Chamber community!<br />\n<br />\nWe look forward to seeing you at the event!</span></span></span></div>\n
LOCATION:*PLEASE NOTE THE LOCATION HAS CHANGED* NEW LOCATION - Workforce Solutions Rural Capital Area 4794 Transportation Way Building 5\, Suite 500 San Marcos\, TX 78666
UID:e.2626.5158079
SEQUENCE:3
DTSTAMP:20260421T115259Z
URL:https://business.sanmarcostexas.com/events/details/chamber-membership-101-discover-how-to-maximize-your-membership-5158079
END:VEVENT

END:VCALENDAR
