BEGIN:VCALENDAR
VERSION:2.0
PRODID:-//ChamberMaster//Event Calendar 2.0//EN
METHOD:PUBLISH
X-PUBLISHED-TTL:P3D
REFRESH-INTERVAL:P3D
CALSCALE:GREGORIAN
BEGIN:VEVENT
DTSTART:20260313T160000Z
DTEND:20260313T210000Z
X-MICROSOFT-CDO-ALLDAYEVENT:FALSE
SUMMARY:Chamber Cornhole Tournament
DESCRIPTION:COME AND TOSS IT!\n\n2026 Title Sponsor - Bluebonnet Electric\n\n\n\nThis event will feature 20-30 teams from area businesses. Sponsors enjoy complimentary food and drinks! There will also be a raffle\, food/drinks\, and spectators in addition to the cornhole action. PLUS great prizes for 1st and 2nd place teams!\n\n\n\nInterested becoming a Sponsor for the Cornhole Tournament? View Sponsorship Opportunities here.
X-ALT-DESC;FMTTYPE=text/html:<p><span style="font-size:16px\;"><span style="color:#000000\;"><em><span style="box-sizing: border-box\; font-family: arial\;"><span style="box-sizing: border-box\;"><strong>COME AND TOSS IT!</strong></span></span></em></span><br />\n<span style="color:#003366\;"><span style="box-sizing: border-box\; font-family: arial\;"><span style="box-sizing: border-box\;"><strong><em>2026&nbsp\;Title Sponsor - Bluebonnet Electric</em></strong></span></span></span></span><br />\n<br />\nThis event will feature 20-30 teams from area businesses. Sponsors enjoy complimentary food and drinks! There will also be a raffle\, food/drinks\, and spectators in addition to the cornhole action. PLUS great prizes for 1st and 2nd place teams!<br />\n<br />\nInterested becoming a Sponsor for the Cornhole Tournament? <a href="https://chambermaster.blob.core.windows.net/userfiles/UserFiles/chambers/2626/File/2026ChamberCornholeTournamentSponsorships2.6.pdf">View Sponsorship Opportunities here.</a></p>\n
LOCATION:
UID:e.2626.5160829
SEQUENCE:3
DTSTAMP:20260421T004428Z
URL:https://business.sanmarcostexas.com/events/details/chamber-cornhole-tournament-5160829
END:VEVENT

END:VCALENDAR
