BEGIN:VCALENDAR
VERSION:2.0
PRODID:-//ChamberMaster//Event Calendar 2.0//EN
METHOD:PUBLISH
X-PUBLISHED-TTL:P3D
REFRESH-INTERVAL:P3D
CALSCALE:GREGORIAN
BEGIN:VEVENT
DTSTART:20190613T163000Z
DTEND:20190613T180000Z
X-MICROSOFT-CDO-ALLDAYEVENT:FALSE
SUMMARY:CANCELLED - Business Development Advisory Board Meeting
DESCRIPTION:June 2019 Business Development Advisory Board Meeting Cancelled.\n\n\n\nNext Meeting is scheduled for Thursday\, July 11\, 2019\n\nlocation - Homewood Suites San Marcos\, 451 Barnes Drive\n\nSan Marcos\, TX 78666
X-ALT-DESC;FMTTYPE=text/html:<strong>June 2019 Business Development Advisory Board Meeting Cancelled.</strong><br />\n<br />\nNext Meeting is scheduled for Thursday\, July 11\, 2019<br />\nlocation - Homewood Suites San Marcos\, 451 Barnes Drive<br />\nSan Marcos\, TX 78666
LOCATION:
UID:e.2626.5148713
SEQUENCE:3
DTSTAMP:20260420T195040Z
URL:https://business.sanmarcostexas.com/events/details/cancelled-business-development-advisory-board-meeting-5148713
END:VEVENT

END:VCALENDAR
