BEGIN:VCALENDAR
VERSION:2.0
PRODID:-//ChamberMaster//Event Calendar 2.0//EN
METHOD:PUBLISH
X-PUBLISHED-TTL:P3D
REFRESH-INTERVAL:P3D
CALSCALE:GREGORIAN
BEGIN:VEVENT
DTSTART:20250220T160000Z
DTEND:20250220T163000Z
X-MICROSOFT-CDO-ALLDAYEVENT:FALSE
SUMMARY:CANCELED Ribbon Cutting-Fine Art & Murals by Michi
DESCRIPTION:The San Marcos Area Chamber's Ambassador Club is hosting a Ribbon Cutting Ceremony for this New Member: Fine Art & Murals by Michi.
X-ALT-DESC;FMTTYPE=text/html:The San Marcos Area Chamber&#39\;s Ambassador Club is hosting a Ribbon Cutting Ceremony for this New Member: Fine Art &amp\; Murals by Michi.
LOCATION:The Ribbon Cutting will be held at: 222 W San Antonio Street San Marcos\, TX 78666 We will be conducting the Ribbon Cutting Ceremony in front of Michelle Wilson's mural on Fletner Alley. Followed by remarks and viewing of other pieces of Michelle's artwork in the Price Center.
UID:e.2626.5160250
SEQUENCE:3
DTSTAMP:20260425T131909Z
URL:https://business.sanmarcostexas.com/events/details/canceled-ribbon-cutting-fine-art-murals-by-michi-5160250
END:VEVENT

END:VCALENDAR
