BEGIN:VCALENDAR
VERSION:2.0
PRODID:-//ChamberMaster//Event Calendar 2.0//EN
METHOD:PUBLISH
X-PUBLISHED-TTL:P3D
REFRESH-INTERVAL:P3D
CALSCALE:GREGORIAN
BEGIN:VEVENT
DTSTART:20240823T150000Z
DTEND:20240823T190000Z
X-MICROSOFT-CDO-ALLDAYEVENT:FALSE
SUMMARY:Business Showcase
DESCRIPTION:Discover what's new in San Marcos!\n\n\n\nThe Business Showcase is from 10am to 2pm at the San Marcos Conference Center. Visit with 100 local businesses and civic groups! There will be exciting giveaways\, free food samples\, and two pep rallies featuring the Texas State Bobcats and San Marcos High School Rattlers.  Make meaningful connections\, discover what's new in town\, and enjoy the vibrant local spirit at this event!\n\n\n\nAdmission is $5 or a donation of non-perishable food to the Hays County Food Bank\, and it gets you an entry into the Door Prize Drawings!\n\n\n\nEVENT SCHEDULE\n\n10am  Exhibit Hall Opens - visit over 100 exhibits and free food booths!\n\nDoor prize drawings at 10:30\, 11:00\, 11:30\, 12:00\, 1:00 and 1:30\n\n10:30am  Rally for the Rattlers - featuring San Marcos HS cheer\, football\, mascot and Diamond Line dancers!\n\n12:15pm  TXST Bobcats Halftime Show - featuring President Kelly Damphousse\, Vice President Don Coryell-Athletics Director\, Coach Bailiff\, cheerleaders\, Boko and Strutters!\n\n1:45pm   Grand Prize Drawing - $250 gift card\n\n2:00pm  Event Ends\n\n\n\nTake a look at the video recap of last year's Business Showcase!\n\nUpdate on 8.16.24: The banner and passport printing deadline was 8.14.24\, but a few exhibit spaces still remain. Call 512-393-5900 right away!\n\nBig thanks to all of the sponsors listed below!\n\n\n	\n		\n			\n			\n				\n					\n						\n						Showcase Exhibitors! (as of 8/13/24)\n						\n					\n				\n			\n			\n		\n	\n\n\n\n	\n		\n			\n			\n				\n					\n						\n						\n							A+ Federal Credit Union\n							AirOne Heating and Air Conditioning\n							Amazon Fulfillment Center\n							Arden 231\n							Baskin-Robbins\n							Benton Luttrell Company\n							Branches San Marcos\n							CareNow Urgent Care\n							Cavender Nissan of San Marcos\n							Central Texas Wing of the Commemorative Air Force\n							Century Communities\n							Chick-fil-A at Aquarena Springs & Wonder World\n							Chief Conversions\n							CHRISTUS Santa Rosa Hospital- San Marcos\n							CHRISTUS Trinity Clinic\n							Chuck Nash Auto Group\n							Chuy's Tex-Mex\n							City Limits Subaru\n							City of San Marcos Neighborhood Enhancement\n							Coastal Office Solutions\n							Cypress Healthcare & Rehabilitation Center\n							First Lockhart National Bank\n							First Watch\n							Gameday Men's Health\n							Gary Job Corps\n							Great Springs Project\n							Greater San Marcos Youth Council\n							Greater Texas Credit Union\n							Green Guy Recycling\n							Hats Off for Veterans\n							Hawthorne at Blanco Riverwalk\n							Hill Country MHDD Center\n							Keller Williams Heritage- Brett Breitschopf\n							Kiwanis Club\n							KnD's Boutique\n							LBJ Museum\n							Lions Club\n							Lucky Sky Graphics\n							McCoy's Building Supply\n						\n						\n					\n				\n			\n			\n			\n			\n				\n					\n						\n						\n							MedPark Hearing Center\n							Muzzy Property Group\n							Over the Moon Popcorn\n							Ozona Bank\n							Pak Mail Thorpe Lane\n							Pulte Group\n							Pyland Ranch\n							Renewal by Andersen\n							Rivercity Screenprinting & Embroidery\n							Rotary Club\n							Sage Capital Bank\n							San Marcos Academy\n							San Marcos Air Conditioning\n							San Marcos Area Chamber of Commerce\n							San Marcos CISD\n							San Marcos Conference Center at Embassy Suites\n							San Marcos Bar-B-Que\n							San Marcos Daily Record\n							San Marcos Police Department\n							School Fuel\n							Southern with a French Twist\n							Spray-A-Way LLC\n							Sunbelt Rentals\n							Sundance Print Center\n							Sunflower Bank\n							Tanger San Marcos\n							Texas Council for Music and Arts\, Mistick Krewe of Okeanos\n							Texas State University\n							Texas State University - Scale Up\n							The Lynx Townhomes & Apts.\n							The Original Black's Barbecue\n							The Palazzo Apartments\n							Total Transformation Institute\n							University Federal Credit Union\n							Vision Source\n							Visit San Marcos/Main Street\n							Wall Fire Studio\n							Wineaux\n							Workforce Solutions Rural Capital Area\n							Young Professionals Network\n							160 Driving Academy
X-ALT-DESC;FMTTYPE=text/html:<h2 class="font_0" style="margin: 0px\; padding: 0px\; border: 0px none\; outline: currentcolor none 0px\; vertical-align: baseline\; background: none 0% 0% repeat scroll transparent\; font-stretch: normal\; line-height: normal\;"><span style="color:#000000\;"><strong><span style="border:none windowtext 1.0pt\;padding:0in\;"><span style="font-family:arial\,sans-serif\;"><span style="font-size:17.5pt\;">Discover what&#39\;s new in San Marcos!</span></span></span></strong></span></h2>\n\n<p><br />\n<span style="font-size:14px\;"><span style="font-family:arial\;">The Business Showcase is from 10am to 2pm at the San Marcos Conference Center. Visit with 100 local businesses and civic groups! There will be exciting giveaways\, free food samples\, and two pep rallies featuring the <strong>Texas State Bobcats</strong> and <strong>San Marcos High School Rattlers.</strong>&nbsp\; Make meaningful connections\, discover what&#39\;s new in town\, and enjoy the vibrant local spirit at this event!<br />\n<br />\n<em><span style="font-size:11px\;">Admission is $5&nbsp\;or a donation of non-perishable food to the Hays County Food Bank\, and it gets you an entry into the Door Prize Drawings!</span></em></span></span><br />\n<br />\nEVENT SCHEDULE<br />\n<strong>10am&nbsp\; Exhibit Hall Opens</strong>&nbsp\;<span style="font-size:10px\;">- visit over 100 exhibits and free food booths!</span><br />\n<span style="font-size:11px\;">Door prize drawings at 10:30\, 11:00\, 11:30\, 12:00\, 1:00 and 1:30</span><br />\n<strong>10:30am&nbsp\; Rally for the Rattlers </strong>- <span style="font-size:10px\;">featuring San Marcos HS cheer\, football\, mascot and Diamond Line dancers!</span><br />\n<strong>12:15pm&nbsp\; TXST Bobcats Halftime Show </strong>- <span style="font-size:10px\;">featuring President Kelly Damphousse\, Vice President&nbsp\;Don Coryell-Athletics Director\, Coach Bailiff\, cheerleaders\, Boko and Strutters!</span><br />\n<strong>1:45pm&nbsp\; &nbsp\;Grand Prize Drawing&nbsp\;</strong>-<span style="font-size:10px\;"> $250 gift card</span><br />\n<strong>2:00pm&nbsp\; Event Ends</strong></p>\n\n<p><br />\n<span style="box-sizing: border-box\; font-weight: bolder\; color: rgb(54\, 54\, 54)\; font-size: 16px\; font-family: proxima_nova_cn_rgbold\;"><a href="https://youtu.be/CGcrjxXXRLU?si=yBdE8rILw18Fxcqy" style="box-sizing: border-box\; background-color: transparent\; color: rgb(51\, 122\, 183)\; text-decoration-line: none\; overflow-wrap: break-word\; transition: all 0.4s ease 0s !important\;">Take a look at the video recap of last year&#39\;s Business Showcase!</a></span><br />\n<span style="color:#2F4F4F\;"><span style="font-size:12px\;"><em>Update on 8.16.24: The banner and passport&nbsp\;printing deadline was 8.14.24\, but a few exhibit spaces still remain. Call 512-393-5900 right away!</em></span></span><br />\n<em style="color: rgb(93\, 93\, 93)\; font-size: 18px\;"><span style="color: rgb(0\, 0\, 0)\;"><strong>Big thanks to all of the sponsors listed below!</strong></span></em></p>\n\n<table border="0" cellpadding="0" cellspacing="0" class="x_layout x_layout--1-column" color:="" font-feature-settings:="" font-kerning:="" font-optical-sizing:="" font-size-adjust:="" font-variation-settings:="" helvetica="" min-width:="" segoe="" style="font-variant-numeric: inherit\; font-variant-east-asian: inherit\; font-variant-alternates: inherit\; font-variant-position: inherit\; font-stretch: inherit\; font-size: 15px\; line-height: inherit\; font-family: " table-layout:="" ui="" web="" west="" width="100%">\n	<tbody>\n		<tr>\n			<td align="center" class="x_column x_column--1 x_scale x_stack" style="width: 600.014px\;" valign="top">\n			<table border="0" cellpadding="0" cellspacing="0" class="x_text x_text--padding-vertical" style="font: inherit\; table-layout: fixed\;" width="100%">\n				<tbody>\n					<tr>\n						<td align="left" class="x_text_content-cell x_content-padding-horizontal" style="font-family: Tahoma\, Geneva\, sans-serif\; color: rgb(73\, 73\, 73)\; font-size: 14px\; line-height: 1.2\; display: block\; overflow-wrap: break-word\; padding: 10px 20px\;" valign="top">\n						<h3 align="center" style="text-align: center\; font-size: 18px\; font-weight: bold\; margin: 0px\;"><span style="font-size:14px\;"><span style="border: 0px\; font-style: italic\; font-variant: inherit\; font-weight: inherit\; font-stretch: inherit\; line-height: inherit\; font-family: Arial\, Verdana\, Helvetica\, sans-serif\; font-optical-sizing: inherit\; font-size-adjust: inherit\; font-kerning: inherit\; font-feature-settings: inherit\; font-variation-settings: inherit\; margin: 0px\; padding: 0px\; vertical-align: baseline\; color: rgb(0\, 0\, 0)\;">Showcase Exhibitors!</span><span style="border: 0px\; font-style: inherit\; font-variant: inherit\; font-weight: inherit\; font-stretch: inherit\; line-height: inherit\; font-family: Arial\, Verdana\, Helvetica\, sans-serif\; font-optical-sizing: inherit\; font-size-adjust: inherit\; font-kerning: inherit\; font-feature-settings: inherit\; font-variation-settings: inherit\; margin: 0px\; padding: 0px\; vertical-align: baseline\; color: rgb(0\, 0\, 0)\;">&nbsp\;</span><span style="border: 0px\; font-style: italic\; font-variant: inherit\; font-weight: normal\; font-stretch: inherit\; line-height: inherit\; font-family: Arial\, Verdana\, Helvetica\, sans-serif\; font-optical-sizing: inherit\; font-size-adjust: inherit\; font-kerning: inherit\; font-feature-settings: inherit\; font-variation-settings: inherit\; margin: 0px\; padding: 0px\; vertical-align: baseline\; color: rgb(0\, 0\, 0)\;">(as of 8/13/24)</span></span></h3>\n						</td>\n					</tr>\n				</tbody>\n			</table>\n			</td>\n		</tr>\n	</tbody>\n</table>\n\n<table border="0" cellpadding="0" cellspacing="0" class="x_layout x_layout--1-column" color:="" font-feature-settings:="" font-kerning:="" font-optical-sizing:="" font-size-adjust:="" font-variation-settings:="" helvetica="" min-width:="" segoe="" style="font-variant-numeric: inherit\; font-variant-east-asian: inherit\; font-variant-alternates: inherit\; font-variant-position: inherit\; font-stretch: inherit\; font-size: 15px\; line-height: inherit\; font-family: " table-layout:="" ui="" web="" west="" width="100%">\n	<tbody>\n		<tr>\n			<td align="center" class="x_column x_column--1 x_scale x_stack" style="width: 300px\;" valign="top">\n			<table border="0" cellpadding="0" cellspacing="0" class="x_text x_text--padding-vertical" style="font: inherit\; table-layout: fixed\;" width="100%">\n				<tbody>\n					<tr>\n						<td align="left" class="x_text_content-cell x_content-padding-horizontal" style="font-family: Tahoma\, Geneva\, sans-serif\; color: rgb(73\, 73\, 73)\; font-size: 14px\; line-height: 1.2\; display: block\; overflow-wrap: break-word\; padding: 10px 20px\;" valign="top">\n						<ul style="padding-right: 0px\; padding-left: 0px\; margin: 0px 0px 0px 40px\;">\n							<li style="padding: 0px\; margin: 0px\;">A+ Federal Credit Union</li>\n							<li style="padding: 0px\; margin: 0px\;">AirOne Heating and Air Conditioning</li>\n							<li style="padding: 0px\; margin: 0px\;">Amazon Fulfillment Center</li>\n							<li style="padding: 0px\; margin: 0px\;">Arden 231</li>\n							<li style="padding: 0px\; margin: 0px\;">Baskin-Robbins</li>\n							<li style="padding: 0px\; margin: 0px\;">Benton Luttrell Company</li>\n							<li style="padding: 0px\; margin: 0px\;">Branches San Marcos</li>\n							<li style="padding: 0px\; margin: 0px\;">CareNow Urgent Care</li>\n							<li style="padding: 0px\; margin: 0px\;">Cavender Nissan of San Marcos</li>\n							<li style="padding: 0px\; margin: 0px\;">Central Texas Wing of the Commemorative Air Force</li>\n							<li style="padding: 0px\; margin: 0px\;">Century Communities</li>\n							<li style="padding: 0px\; margin: 0px\;">Chick-fil-A at Aquarena Springs &amp\; Wonder World</li>\n							<li style="padding: 0px\; margin: 0px\;">Chief Conversions</li>\n							<li style="padding: 0px\; margin: 0px\;">CHRISTUS Santa Rosa Hospital- San Marcos</li>\n							<li style="padding: 0px\; margin: 0px\;">CHRISTUS Trinity Clinic</li>\n							<li style="padding: 0px\; margin: 0px\;">Chuck Nash Auto Group</li>\n							<li style="padding: 0px\; margin: 0px\;">Chuy&#39\;s Tex-Mex</li>\n							<li style="padding: 0px\; margin: 0px\;">City Limits Subaru</li>\n							<li style="padding: 0px\; margin: 0px\;">City of San Marcos Neighborhood Enhancement</li>\n							<li style="padding: 0px\; margin: 0px\;">Coastal Office Solutions</li>\n							<li style="padding: 0px\; margin: 0px\;">Cypress Healthcare &amp\; Rehabilitation Center</li>\n							<li style="padding: 0px\; margin: 0px\;">First Lockhart National Bank</li>\n							<li style="padding: 0px\; margin: 0px\;">First Watch</li>\n							<li style="padding: 0px\; margin: 0px\;">Gameday Men&#39\;s Health</li>\n							<li style="padding: 0px\; margin: 0px\;">Gary Job Corps</li>\n							<li style="padding: 0px\; margin: 0px\;">Great Springs Project</li>\n							<li style="padding: 0px\; margin: 0px\;">Greater San Marcos Youth Council</li>\n							<li style="padding: 0px\; margin: 0px\;">Greater Texas Credit Union</li>\n							<li style="padding: 0px\; margin: 0px\;">Green Guy Recycling</li>\n							<li style="padding: 0px\; margin: 0px\;">Hats Off for Veterans</li>\n							<li style="padding: 0px\; margin: 0px\;">Hawthorne at Blanco Riverwalk</li>\n							<li style="padding: 0px\; margin: 0px\;">Hill Country MHDD Center</li>\n							<li style="padding: 0px\; margin: 0px\;">Keller Williams Heritage- Brett Breitschopf</li>\n							<li style="padding: 0px\; margin: 0px\;">Kiwanis Club</li>\n							<li style="padding: 0px\; margin: 0px\;">KnD&#39\;s Boutique</li>\n							<li style="padding: 0px\; margin: 0px\;">LBJ Museum</li>\n							<li style="padding: 0px\; margin: 0px\;">Lions Club</li>\n							<li style="padding: 0px\; margin: 0px\;">Lucky Sky Graphics</li>\n							<li style="padding: 0px\; margin: 0px\;">McCoy&#39\;s Building Supply</li>\n						</ul>\n						</td>\n					</tr>\n				</tbody>\n			</table>\n			</td>\n			<td align="center" class="x_column x_column--1 x_scale x_stack" style="width: 300.014px\;" valign="top">\n			<table border="0" cellpadding="0" cellspacing="0" class="x_text x_text--padding-vertical" style="font: inherit\; table-layout: fixed\;" width="100%">\n				<tbody>\n					<tr>\n						<td align="left" class="x_text_content-cell x_content-padding-horizontal" style="font-family: Tahoma\, Geneva\, sans-serif\; color: rgb(73\, 73\, 73)\; font-size: 14px\; line-height: 1.2\; display: block\; overflow-wrap: break-word\; padding: 10px 20px\;" valign="top">\n						<ul style="padding-right: 0px\; padding-left: 0px\; margin: 0px 0px 0px 40px\;">\n							<li style="padding: 0px\; margin: 0px\;">MedPark Hearing Center</li>\n							<li style="padding: 0px\; margin: 0px\;">Muzzy Property Group</li>\n							<li style="padding: 0px\; margin: 0px\;">Over the Moon Popcorn</li>\n							<li style="padding: 0px\; margin: 0px\;">Ozona Bank</li>\n							<li style="padding: 0px\; margin: 0px\;">Pak Mail Thorpe Lane</li>\n							<li style="padding: 0px\; margin: 0px\;">Pulte Group</li>\n							<li style="padding: 0px\; margin: 0px\;">Pyland Ranch</li>\n							<li style="padding: 0px\; margin: 0px\;">Renewal by Andersen</li>\n							<li style="padding: 0px\; margin: 0px\;">Rivercity Screenprinting &amp\; Embroidery</li>\n							<li style="padding: 0px\; margin: 0px\;">Rotary Club</li>\n							<li style="padding: 0px\; margin: 0px\;">Sage Capital Bank</li>\n							<li style="padding: 0px\; margin: 0px\;">San Marcos Academy</li>\n							<li style="padding: 0px\; margin: 0px\;">San Marcos Air Conditioning</li>\n							<li style="padding: 0px\; margin: 0px\;">San Marcos Area Chamber of Commerce</li>\n							<li style="padding: 0px\; margin: 0px\;">San Marcos CISD</li>\n							<li style="padding: 0px\; margin: 0px\;">San Marcos Conference Center at Embassy Suites</li>\n							<li style="padding: 0px\; margin: 0px\;">San Marcos Bar-B-Que</li>\n							<li style="padding: 0px\; margin: 0px\;">San Marcos Daily Record</li>\n							<li style="padding: 0px\; margin: 0px\;">San Marcos Police Department</li>\n							<li style="padding: 0px\; margin: 0px\;">School Fuel</li>\n							<li style="padding: 0px\; margin: 0px\;">Southern with a French Twist</li>\n							<li style="padding: 0px\; margin: 0px\;">Spray-A-Way LLC</li>\n							<li style="padding: 0px\; margin: 0px\;">Sunbelt Rentals</li>\n							<li style="padding: 0px\; margin: 0px\;">Sundance Print Center</li>\n							<li style="padding: 0px\; margin: 0px\;">Sunflower Bank</li>\n							<li style="padding: 0px\; margin: 0px\;">Tanger San Marcos</li>\n							<li style="padding: 0px\; margin: 0px\;">Texas Council for Music and Arts\, Mistick Krewe of Okeanos</li>\n							<li style="padding: 0px\; margin: 0px\;">Texas State University</li>\n							<li style="padding: 0px\; margin: 0px\;">Texas State University - Scale Up</li>\n							<li style="padding: 0px\; margin: 0px\;">The Lynx Townhomes &amp\; Apts.</li>\n							<li style="padding: 0px\; margin: 0px\;">The Original Black&#39\;s Barbecue</li>\n							<li style="padding: 0px\; margin: 0px\;">The Palazzo Apartments</li>\n							<li style="padding: 0px\; margin: 0px\;">Total Transformation Institute</li>\n							<li style="padding: 0px\; margin: 0px\;">University Federal Credit Union</li>\n							<li style="padding: 0px\; margin: 0px\;">Vision Source</li>\n							<li style="padding: 0px\; margin: 0px\;">Visit San Marcos/Main Street</li>\n							<li style="padding: 0px\; margin: 0px\;">Wall Fire Studio</li>\n							<li style="padding: 0px\; margin: 0px\;">Wineaux</li>\n							<li style="padding: 0px\; margin: 0px\;">Workforce Solutions Rural Capital Area</li>\n							<li style="padding: 0px\; margin: 0px\;">Young Professionals Network</li>\n							<li style="padding: 0px\; margin: 0px\;">160 Driving Academy</li>\n						</ul>\n						</td>\n					</tr>\n				</tbody>\n			</table>\n			</td>\n		</tr>\n	</tbody>\n</table>\n
LOCATION:Embassy Suites Conference Center 1001 E. McCarty Lane San Marcos\, TX 78666
UID:e.2626.5158950
SEQUENCE:3
DTSTAMP:20260424T221325Z
URL:https://business.sanmarcostexas.com/events/details/business-showcase-5158950
END:VEVENT

END:VCALENDAR
