BEGIN:VCALENDAR
VERSION:2.0
PRODID:-//ChamberMaster//Event Calendar 2.0//EN
METHOD:PUBLISH
X-PUBLISHED-TTL:P3D
REFRESH-INTERVAL:P3D
CALSCALE:GREGORIAN
BEGIN:VEVENT
DTSTART:20241011T130000Z
DTEND:20241011T180000Z
X-MICROSOFT-CDO-ALLDAYEVENT:FALSE
SUMMARY:Business on the Green Golf Tournament 2024
DESCRIPTION:"Business on the Green" Golf Tournament - Friday\, Oct. 11\n\n\n\nUPDATE 9/16/2024 -- The tournament is sold out! No team openings\, but some high-impact sponsorships remain! Click below for details. \n\n\n\nIt will be another unforgettable day of golf and networking! Immerse yourself in the natural beauty of Kissing Tree. Discover the stunning landscapes and top-notch amenities. Unwind on the clubhouse patio and enjoy a lively awards ceremony. A delicious lunch will be served\, plus team prize announcements and camaraderie with other players.\n\n\n\nView Sponsor information here!\n\n\n\nTake a look at photos from last year's tournament here!\n\n\n\nThanks to these sponsors confirmed so far for the 2024 Tournament...
X-ALT-DESC;FMTTYPE=text/html:<strong><font face="arial"><span style="font-size: 16px\;">&quot\;Business on the Green&quot\; Golf Tournament - Friday\, Oct. 11</span></font></strong><br />\n<br />\n<strong><span style="color:#008080\;">UPDATE 9/16/2024 -- The tournament is sold out! No team openings\, but some high-impact sponsorships remain! Click below for details.&nbsp\;</span></strong><br />\n<br />\n<font face="arial"><span style="font-size: 16px\;">It will be another unforgettable day of golf and networking! Immerse yourself in the natural beauty of Kissing Tree. Discover the stunning landscapes and top-notch amenities. Unwind on the clubhouse patio and enjoy a lively awards ceremony. A delicious lunch will be served\, plus team prize announcements and camaraderie with other players.<br />\n<br />\n<span style="color:#008000\;"><strong>View Sponsor information&nbsp\;<a href="https://chambermaster.blob.core.windows.net/userfiles/UserFiles/chambers/2626/File/2024GolfSponsorshipOptions-SanMarcosChamber1.pdf">here!</a></strong></span></span></font><br />\n<br />\n<font face="arial"><span style="font-size: 16px\;"><strong><a href="https://www.flickr.com/photos/199220154@N03/albums/72177720311525489">Take a look at photos from last year&#39\;s tournament here!</a></strong></span></font><br />\n<br />\n<em><strong>Thanks to these sponsors confirmed so far for the 2024 Tournament...</strong></em>
LOCATION:201 Kissing Tree Lane San Marcos TX 78666
UID:e.2626.5158953
SEQUENCE:3
DTSTAMP:20260425T032834Z
URL:https://business.sanmarcostexas.com/events/details/business-on-the-green-golf-tournament-2024-5158953
END:VEVENT

END:VCALENDAR
