BEGIN:VCALENDAR
VERSION:2.0
PRODID:-//ChamberMaster//Event Calendar 2.0//EN
METHOD:PUBLISH
X-PUBLISHED-TTL:P3D
REFRESH-INTERVAL:P3D
CALSCALE:GREGORIAN
BEGIN:VEVENT
DTSTART:20250104T160000Z
DTEND:20250104T210000Z
X-MICROSOFT-CDO-ALLDAYEVENT:FALSE
SUMMARY:Blood Drive | By the American Red Cross
DESCRIPTION:Be a lifesaver! The need for blood is greater than ever. Join our Blood Drive with the American Red Cross and help support Hurricane Relief that is still ongoing on the East Coast. Your donation saves lives - together we can make a difference! Help us reach out goal of 40 units!
X-ALT-DESC;FMTTYPE=text/html:<p>Be a lifesaver! The need for blood is greater than ever. Join our Blood Drive with the American Red Cross and help support Hurricane Relief that is still ongoing on the East Coast. Your donation saves lives - together we can make a difference! Help us reach out goal of 40 units!</p>\n
LOCATION:Tanger Outlets San Marcos 4015 I-35 S.\, San Marcos\, TX 78666 Suite 319 - Guest Lounge\; Near Disney Outlet
UID:e.2626.5160179
SEQUENCE:3
DTSTAMP:20260425T103548Z
URL:https://business.sanmarcostexas.com/events/details/blood-drive-by-the-american-red-cross-5160179
END:VEVENT

END:VCALENDAR
