BEGIN:VCALENDAR
VERSION:2.0
PRODID:-//ChamberMaster//Event Calendar 2.0//EN
METHOD:PUBLISH
X-PUBLISHED-TTL:P3D
REFRESH-INTERVAL:P3D
CALSCALE:GREGORIAN
BEGIN:VEVENT
DTSTART:20220111T173000Z
DTEND:20220111T183000Z
X-MICROSOFT-CDO-ALLDAYEVENT:FALSE
SUMMARY:Ambassador Club Meeting
DESCRIPTION:The monthly meeting of the Ambassador Club. Ambassador Club and Advisory Board meetings are open to all Chamber members. Meeting times and locations are subject to change at the committee's discretion.\n\n\n\nFor more information about becoming an Ambassador\, please contact The Chamber by calling (512) 393-5900 or emailing Tedg@sanmarcostexas.com
X-ALT-DESC;FMTTYPE=text/html:<span style="color: rgb(54\, 54\, 54)\; font-family: Arial\, Helvetica\, sans-serif\; font-size: 16px\;">The monthly meeting of the Ambassador Club. Ambassador Club and Advisory Board meetings are open to all Chamber members. Meeting times and locations are subject to change at the committee&#39\;s discretion.</span><br style="box-sizing: border-box\; color: rgb(54\, 54\, 54)\; font-family: Arial\, Helvetica\, sans-serif\; font-size: 16px\;" />\n<br style="box-sizing: border-box\; color: rgb(54\, 54\, 54)\; font-family: Arial\, Helvetica\, sans-serif\; font-size: 16px\;" />\n<span style="color: rgb(54\, 54\, 54)\; font-family: Arial\, Helvetica\, sans-serif\; font-size: 16px\;">For more information about becoming an Ambassador\, please contact The Chamber by calling (512) 393-5900 or emailing Tedg@sanmarcostexas.com</span>
LOCATION:Location: Grins Restaurant 802 North LBJ Drive San Marcos\, TX 78666
UID:e.2626.5157885
SEQUENCE:3
DTSTAMP:20260422T030102Z
URL:https://business.sanmarcostexas.com/events/details/ambassador-club-meeting-5157885
END:VEVENT

END:VCALENDAR
