BEGIN:VCALENDAR
VERSION:2.0
PRODID:-//ChamberMaster//Event Calendar 2.0//EN
METHOD:PUBLISH
X-PUBLISHED-TTL:P3D
REFRESH-INTERVAL:P3D
CALSCALE:GREGORIAN
BEGIN:VEVENT
DTSTART:20190702T163000Z
DTEND:20190702T180000Z
X-MICROSOFT-CDO-ALLDAYEVENT:FALSE
SUMMARY:Ambassador Club Meeting
DESCRIPTION:The monthly meeting of the Ambassador Club. Ambassador Club and Advisory Board meetings are open to all Chamber members. Meeting times and locations are subject to change at the committee's discretion.\n\n\n\nFor more information about becoming an Ambassador\, please contact Margaret Lindsey at The Chamber by calling (512) 393-5900 or emailing Margaretl@Sanmarcostexas.com
X-ALT-DESC;FMTTYPE=text/html:<span style="color:#000000\;"><span style="font-family:arial\;"><span style="font-size:14px\;">The monthly meeting of the Ambassador Club. Ambassador Club and Advisory Board meetings are open to all Chamber members. Meeting times and locations are subject to change at the committee&#39\;s discretion.</span></span><br />\n<br />\n<span style="font-family: Arial\, Helvetica\, sans-serif\; font-size: 14px\;">For more information about becoming an Ambassador\, please contact Margaret Lindsey at The Chamber by calling (512) 393-5900 or emailing Margaretl@Sanmarcostexas.com</span></span>
LOCATION:Rogelio's Restaurant 625 S L B J Dr\, San Marcos\, TX 78666
UID:e.2626.5149546
SEQUENCE:3
DTSTAMP:20260420T101015Z
URL:https://business.sanmarcostexas.com/events/details/ambassador-club-meeting-07-02-2019-5149546
END:VEVENT

END:VCALENDAR
