BEGIN:VCALENDAR
VERSION:2.0
PRODID:-//ChamberMaster//Event Calendar 2.0//EN
METHOD:PUBLISH
X-PUBLISHED-TTL:P3D
REFRESH-INTERVAL:P3D
CALSCALE:GREGORIAN
BEGIN:VEVENT
DTSTART:20240402T163000Z
DTEND:20240402T180000Z
X-MICROSOFT-CDO-ALLDAYEVENT:FALSE
SUMMARY:Ambassadors Club Meeting
DESCRIPTION:This is a monthly meeting of the Ambassadors Club. (Not a public event). Meeting locations are subject to change with short notice. \n\n\n\nInterested in knowing more about being an Ambassador? Please contact Marisol Gomez Mendoza at the Chamber at 512-393-5900 or marisol@sanmarcostexas.com.\n\n\n\nAmbassadors serve as the official greeters for our community\, attend ribbon cuttings and grand openings to celebrate with new/expanding businesses\, welcome guests at Chamber special events and more!
X-ALT-DESC;FMTTYPE=text/html:<span style="color:#000000\;"><span style="font-family: arial\;"><span style="font-size: 14px\;">This is a monthly meeting of the Ambassadors Club. (Not a public event). Meeting locations are subject to change with short notice.&nbsp\;</span></span><br style="color: rgb(0\, 0\, 0)\;" />\n<br style="color: rgb(0\, 0\, 0)\;" />\n<span style="font-family: Arial\, Helvetica\, sans-serif\; font-size: 14px\;"><strong>Interested in knowing more about being an Ambassador?</strong> Please contact Marisol Gomez Mendoza at the Chamber at 512-393-5900 or marisol@sanmarcostexas.com.<br />\n<br />\nAmbassadors serve as the official greeters for our community\, attend ribbon cuttings and grand openings to celebrate with new/expanding businesses\, welcome guests at Chamber special events and more!</span></span>
LOCATION:Location: To be announced.
UID:e.2626.5149603
SEQUENCE:3
DTSTAMP:20260420T202335Z
URL:https://business.sanmarcostexas.com/events/details/ambassador-club-meeting-04-02-2024-5149603
END:VEVENT

END:VCALENDAR
