BEGIN:VCALENDAR
VERSION:2.0
PRODID:-//ChamberMaster//Event Calendar 2.0//EN
METHOD:PUBLISH
X-PUBLISHED-TTL:P3D
REFRESH-INTERVAL:P3D
CALSCALE:GREGORIAN
BEGIN:VEVENT
DTSTART:20260303T173000Z
DTEND:20260303T190000Z
X-MICROSOFT-CDO-ALLDAYEVENT:FALSE
SUMMARY:Ambassadors Club Meeting
DESCRIPTION:This is a monthly meeting of the Ambassadors Club. (Not a public event). Meeting locations are subject to change with short notice. \n\n\n\nInterested in knowing more about being an Ambassador? Please contact Marisol Gomez Mendoza at the Chamber at 512-393-5900 or marisol@sanmarcostexas.com.\n\n\n\nAmbassadors serve as the official greeters for our community\, attend ribbon cuttings and grand openings to celebrate with new/expanding businesses\, welcome guests at Chamber special events and more!
X-ALT-DESC;FMTTYPE=text/html:<span style="color:#000000\;"><span style="font-family: arial\;"><span style="font-size: 14px\;">This is a monthly meeting of the Ambassadors Club. (Not a public event). Meeting locations are subject to change with short notice.&nbsp\;</span></span><br style="color: rgb(0\, 0\, 0)\;" />\n<br style="color: rgb(0\, 0\, 0)\;" />\n<span style="font-family: Arial\, Helvetica\, sans-serif\; font-size: 14px\;"><strong>Interested in knowing more about being an Ambassador?</strong> Please contact Marisol Gomez Mendoza at the Chamber at 512-393-5900 or marisol@sanmarcostexas.com.<br />\n<br />\nAmbassadors serve as the official greeters for our community\, attend ribbon cuttings and grand openings to celebrate with new/expanding businesses\, welcome guests at Chamber special events and more!</span></span>
LOCATION:Location: Chuy's Restaurant 1121 N Interstate 35 San Marcos\, TX 78666
UID:e.2626.5149626
SEQUENCE:3
DTSTAMP:20260421T004925Z
URL:https://business.sanmarcostexas.com/events/details/ambassador-club-meeting-03-03-2026-5149626
END:VEVENT

END:VCALENDAR
