BEGIN:VCALENDAR
VERSION:2.0
PRODID:-//ChamberMaster//Event Calendar 2.0//EN
METHOD:PUBLISH
X-PUBLISHED-TTL:P3D
REFRESH-INTERVAL:P3D
CALSCALE:GREGORIAN
BEGIN:VEVENT
DTSTART:20200903T163000Z
DTEND:20200903T180000Z
X-MICROSOFT-CDO-ALLDAYEVENT:FALSE
SUMMARY:2020 San Marcos Shining Stars Under 40
DESCRIPTION:The San Marcos Shining Stars Under 40 (SSU40) honors 5 young professionals under the age of 40 engaged in a variety of fields including business\, technology\, non-profit management\, civic life\, public service\, education\, and the arts\, who are making significant contributions in their professional fields as well as through their service to the community.\n\n \n\nShining Stars represent the best and brightest of San Marcos   they are shining examples of caring\, hard-working\, and innovative leaders making our growing community a place where one desires to live\, work\, and play!
X-ALT-DESC;FMTTYPE=text/html:<div color:="" font-size:="" margin:="" open="" outline:="" padding:="" style="box-sizing: border-box\; border: 0px\; font-family: " vertical-align:=""><span style="font-size:16px\;">The San Marcos Shining Stars Under 40 (SSU40) honors 5 young professionals under the age of 40 engaged in a variety of fields including business\, technology\, non-profit management\, civic life\, public service\, education\, and the arts\, who are making significant contributions in their professional fields as well as through their service to the community.</span></div>\n\n<div color:="" font-size:="" margin:="" open="" outline:="" padding:="" style="box-sizing: border-box\; border: 0px\; font-family: " vertical-align:="">&nbsp\;</div>\n\n<div color:="" font-size:="" margin:="" open="" outline:="" padding:="" style="box-sizing: border-box\; border: 0px\; font-family: " vertical-align:=""><span style="font-size:16px\;">Shining Stars represent the best and brightest of San Marcos &ndash\; they are&nbsp\;shining&nbsp\;examples of caring\, hard-working\, and innovative leaders making our growing community a place where one desires to live\, work\, and play!</span><br />\n<br />\n<br />\n&nbsp\;</div>\n
LOCATION:
UID:e.2626.5155824
SEQUENCE:3
DTSTAMP:20260424T201353Z
URL:https://business.sanmarcostexas.com/events/details/2020-san-marcos-shining-stars-under-40-5155824
END:VEVENT

END:VCALENDAR
